Workbook

Sheet Pokyny
A1: Usmernenie k priebežnému čerpaniu a vyúčtovaniu dotácií poskytnutých v roku 2016 | C1: Grafické vysvetlenie spolufinancovania (napr. 35%):
A3: (1) Vyúčtovanie dotácií poskytnutých zo štátneho rozpočtu v roku 2016 v oblasti športu sa predkladá v termíne a za podmienok uvedených v zmluve/dodatku k zmluve o poskytnutí dotácie (ďalej len „zmluva“). | C3: Povinne vyúčtovaná suma
C4: Dotácia | D4: Spolufinancovanie
A5: (2) Hárky "Doklady" + "Spolu" je potrebné vytlačiť, podpísať osobou oprávnenou konať v mene prijímateľa dotácie podľa stanov a doručiť na adresu Ministerstvo školstva, vedy, výskumu a športu Slovenskej republiky, sekcia štátnej starostlivosti o šport a mládež, Stromová 1, 813 30 Bratislava 1 najneskôr v termíne uvedenom v zmluve. Na obálku vľavo hore je potrebné napísať „Vyúčtovanie dotácie za rok 2016“. Vyúčtovanie nie je potrebné zaslať doporučenou poštou a je možné ho doručiť aj osobne v podateľni ministerstva na adrese písomného predloženia vyúčtovania (pondelok - piatok od 8:00 hod. do 14:00 hod.), | C5: 0.65 | D5: 0.35
C6: 1
A7: (3) Súbor "Vyuctovanie2016-V1.xls" je potrebné zaslať elektronickou poštou ako prílohu vo formáte .xls (MS Excel 2003) na adresu ziadosti.sport@minedu.sk, pričom do predmetu elektronickej pošty je potrebné napísať „Vyúčtovanie dotácie za rok 2016“.
A9: ZMENY: 1. Formulár automaticky vykazuje schválenú dotáciu z aktuálne platnej zmluvy/dodatku k zmluve a spracováva aktuálne vložené čerpanie poskytnutej dotácie jej prijímateľom. 2. Formulár obsahuje nový hárok s názvom "Príjmy". Tento hárok netreba tlačiť ani poslať. 3. Prijímateľ dotácie aktualizuje k vloženému dátumu (bunka D1 hárku "Príjmy") sumu prijatých finančných prostriedkov, ktoré mu boli poukázané od 01.01.2016. 4. Prijímateľ dotácie uvádza každý príjem (poukázané prostriedky z dotácie) a každý výdaj (použitie finančných prostriedkov z dotácie) na samostatnom riadku ako samostatnú položku. INFORMÁCIA: Prijímateľ prostriedkov zo štátneho rozpočtu je v súlade s § 65 ods. (6) zákona o športe povinný priebežne zverejňovať informácie o prijatí a spôsobe použitia prostriedkov zo štátneho rozpočtu najneskôr do 25. dňa kalendárneho mesiaca nasledujúceho po kalendárnom mesiaci, v ktorom boli prostriedky štátneho rozpočtu prijaté alebo použité. Zverejnením formuláru vyúčtovania na svojej webovej stránke a jeho pravidelnou aktualizáciou, vrátane oznámenia tejto webovej adresy ministerstvu, si túto povinnosť splníte.
A11: POKYNY NA VYPLNENIE FORMULÁRA
A13: (1) Formulár "Vyuctovanie2016-V1.xls" si uložte vo vašom počítači. Vo všetkých hárkoch vypĺňate len žlté polia. Do hárku "Spolu" nezasahujte. V prípade nezrovnalostí alebo problémov pri vypĺňaní sa obráťte na pracovníkov sekcie štátnej starostlivosti o šport a mládež MŠVVaŠ SR.
A15: (2) Prečítajte si informácie v hárku "Pokyny".
A17: (3) V hárku „Doklady“ vyberte zo zoznamu svoju organizáciu („Prijímateľ dotácie“).
A19: (4) Vyplňte žlté pole osoby, ktorá spracovala vyúčtovanie ("meno, priezvisko, e-mail, mobil a podpis osoby, ktorá spracovala vyúčtovanie) (bunka A121) a osoby oprávnenej vykonávať právne úkony v mene prijímateľa dotácie podľa stanov („meno, priezvisko a podpis osoby oprávnenej vykonávať právne úkony v mene prijímateľa dotácie“) (bunka E121).
A21: (5) Do polí riadkov 127 až 3000 vložte postupne vyúčtovacie údaje (polia zmenia farbu na žltú). Údaje v stĺpcoch B až H je možné vyplniť aj vložením údajov z iného hárku .xls, alebo z iného zdroja (CTRL+C, CTRL+V). Údaje v stĺpci A nie je možné vyplniť kopírovaním z iného zdroja, ale je potrebné vybrať ich z ponúkaného zoznamu. Pri nedodržaní tohto upozornenia sa poruší funkčnosť formulára a takéto vyúčtovanie nebude akceptované.
A23: (6) Pri vkladaní údajov ako pomôcky použite komentáre, ktoré sa zobrazia, keď podržíte kurzor myši nad bunkami označenými malými červenými trojuholníčkami v záhlaví stĺpcov.
A25: (7) Pri vkladaní údajov uvádzajte plné výrazy, nie skratky (napr. namiesto DPC treba uviesť „dohoda o pracovnej činnosti“). V nevyhnutnom prípade používajte skratky podľa zoznamu v hárku "Skratky", ktorý si môžete rozšíriť o vlastné skratky (je potrebné ich doplniť do príslušnej tabuľky). V stĺpci "Dodávateľ plnenia" nie je prípustné používať skratky, okrem skratiek, ktoré sú v oficiálnom názve subjektu. Vyhnite sa prehnanému používaniu skratiek, ktoré nie sú bežne zaužívané, vyúčtovanie sa tak stáva neprehľadným.
A27: (8) Pri vkladaní popisu uhradeného plnenia vyberte z rozbaľovacieho zoznamu správnu možnosť. V prípade ak sa daná možnosť vo výbere nenachádza, zadajte voľný text.
A29: (9) Vo vyúčtovaní dotácie môžu byť uvedené len doklady uhradené s dátumom od 1.1.2016 do 31.12.2016, resp. s dátumom, ktorý bol uvedený v zmluve o poskytnutí dotácie ako termín pre použitie dotácie. Pri investíciách (kapitálové transfery) je nevyhnutné priložiť k vyúčtovaniu aj kópie faktúr a kópie dokladov o ich úhrade.
... A133: v. r.

Sheet Príjmy
A1: Aktualizovaná suma prostriedkov poskytnutých ministerstvom k | D1: 42760 | E1: a ich čerpanie | K1: 42394
K2: 42425
B3: Prijímateľ dotácie: | C3: =INDEX(Adr!E:E,Doklady!B112+1) -> Slovenská skialpinistická asociácia | K3: 42454
B4: IČO: | C4: =RIGHT("0000"&INDEX(Adr!A:A,Doklady!B112+1),8) -> 37998919 | K4: 42485
B5: Právna forma: | C5: =INDEX(Adr!F:F,Doklady!B112+1) -> občianske združenie | K5: 42515
B6: Sídlo: | C6: =INDEX(Adr!G:G,Doklady!B112+1)&", "&INDEX(Adr!H:H,Doklady!B112+1)&", "&INDEX(Adr!I:I,Doklady!B112+1) -> Bobrovec 550, Bobrovec, 032 21 | K6: 42546
B7: IBAN: | C7: =INDEX(Adr!J:J,Doklady!B112+1) -> SK6911000000002620098466 | K7: 42576
K8: 42607
A9: PPG | B9: Podprogram | C9: Úhrnná poskytnutá dotácia od 01.01.2016 | D9: Vyčerpaná dotácia k aktuálnemu dátumu | E9: Nevyčerpaná dotácia | K9: 42638
A10: 026 01 | B10: Šport na školách a rekreačný šport | D10: =Spolu!D10 -> 0 | E10: =C10-D10 -> 0 | K10: 42668
A11: 026 02 | B11: Štátna športová reprezentácia a rozvoj športových odvetví | C11: 6100 | D11: =Spolu!D11 -> 6100 | E11: =C11-D11 -> 0 | K11: 42699
A12: 026 03 | B12: Športovo talentovaná mládež | C12: 2500 | D12: =Spolu!D12 -> 2500 | E12: =C12-D12 -> 0 | K12: 42729
A13: 026 04 | B13: Materiálno-technický rozvoj športu | D13: =Spolu!D13 -> 0 | E13: =C13-D13 -> 0 | K13: 42760
A14: 026 05 | B14: Koordinácia projektov a prierezové činnosti v športe | D14: =Spolu!D14 -> 0 | E14: =C14-D14 -> 0
B15: SPOLU | C15: =SUM(C10:C14) -> 8600 | D15: =SUM(D10:D14) -> 8600 | E15: =SUM(E10:E14) -> 0
A17: Prijímateľ prostriedkov zo štátneho rozpočtu je povinný priebežne zverejňovať informácie o prijatí a spôsobe použitia prostriedkov zo štátneho rozpočtu najneskôr do 25. dňa kalendárneho mesiaca nasledujúceho po kalendárnom mesiaci, v ktorom boli prostriedky štátneho rozpočtu prijaté alebo použité, ak nevedie príjmy a výdavky prostriedkov zo štátneho rozpočtu na osobitnom bankovom účte. ( § 65, ods. 6 zákona č. 440/2015 Z. z. o športe a o zmene a doplnení niektorých zákonov)

Sheet Doklady
A1: =COUNTIF(B2:B101,B1) -> 2 | B1: =INDEX(Adr!A:A,B112+1) -> 37998919 | D1: =MATCH(B1,Dots!A:A,0) -> 218
A2: =IF(B2=B$1,"("&I2&")"&" - "&INDEX(Dots!D:D,D2),"") -> (01) - športová reprezentácia SR a rozvoj športových odvetví (SR a zahraničie, celý rok 2016) | B2: =INDEX(Dots!A:A,D2) -> 37998919 | D2: =D1 -> 218 | F2: =IF(B2=B$1,INDEX(Dots!E:E,D2),"") -> 6100 | G2: =SUMIF(A$127:A$20012,A2,G$127:G$20012) -> 6100 | H2: =SUMIF(A$127:A$20012,A2,H$127:H$20012) -> 384.5 | I2: =IF(B2=B$1,INDEX(Dots!G:G,D2),"") -> 01 | J2: =IF(B2=B$1,INDEX(Dots!H:H,D2),"") -> 026 02 | K2: =IF(B2=B$1,INDEX(Dots!F:F,D2),"") -> 0.05
A3: =IF(B3=B$1,"("&I3&")"&" - "&INDEX(Dots!D:D,D3),"") -> (01) - výber a príprava športových talentov (SR a zahraničie, celý rok 2016) | B3: =INDEX(Dots!A:A,D3) -> 37998919 | D3: =D2+1 -> 219 | F3: =IF(B3=B$1,INDEX(Dots!E:E,D3),"") -> 2500 | G3: =SUMIF(A$127:A$20012,A3,G$127:G$20012) -> 2500 | H3: =SUMIF(A$127:A$20012,A3,H$127:H$20012) -> 519 | I3: =IF(B3=B$1,INDEX(Dots!G:G,D3),"") -> 01 | J3: =IF(B3=B$1,INDEX(Dots!H:H,D3),"") -> 026 03 | K3: =IF(B3=B$1,INDEX(Dots!F:F,D3),"") -> 0.05
A4: =IF(B4=B$1,"("&I4&")"&" - "&INDEX(Dots!D:D,D4),"") | B4: =INDEX(Dots!A:A,D4) -> 17316723 | D4: =D3+1 -> 220 | F4: =IF(B4=B$1,INDEX(Dots!E:E,D4),"") | G4: =SUMIF(A$127:A$20012,A4,G$127:G$20012) -> 0 | H4: =SUMIF(A$127:A$20012,A4,H$127:H$20012) -> 0 | I4: =IF(B4=B$1,INDEX(Dots!G:G,D4),"") | J4: =IF(B4=B$1,INDEX(Dots!H:H,D4),"") | K4: =IF(B4=B$1,INDEX(Dots!F:F,D4),"")
A5: =IF(B5=B$1,"("&I5&")"&" - "&INDEX(Dots!D:D,D5),"") | B5: =INDEX(Dots!A:A,D5) -> 17316723 | D5: =D4+1 -> 221 | F5: =IF(B5=B$1,INDEX(Dots!E:E,D5),"") | G5: =SUMIF(A$127:A$20012,A5,G$127:G$20012) -> 0 | H5: =SUMIF(A$127:A$20012,A5,H$127:H$20012) -> 0 | I5: =IF(B5=B$1,INDEX(Dots!G:G,D5),"") | J5: =IF(B5=B$1,INDEX(Dots!H:H,D5),"") | K5: =IF(B5=B$1,INDEX(Dots!F:F,D5),"")
A6: =IF(B6=B$1,"("&I6&")"&" - "&INDEX(Dots!D:D,D6),"") | B6: =INDEX(Dots!A:A,D6) -> 30807018 | D6: =D5+1 -> 222 | F6: =IF(B6=B$1,INDEX(Dots!E:E,D6),"") | G6: =SUMIF(A$127:A$20012,A6,G$127:G$20012) -> 0 | H6: =SUMIF(A$127:A$20012,A6,H$127:H$20012) -> 0 | I6: =IF(B6=B$1,INDEX(Dots!G:G,D6),"") | J6: =IF(B6=B$1,INDEX(Dots!H:H,D6),"") | K6: =IF(B6=B$1,INDEX(Dots!F:F,D6),"")
A7: =IF(B7=B$1,"("&I7&")"&" - "&INDEX(Dots!D:D,D7),"") | B7: =INDEX(Dots!A:A,D7) -> 30807018 | D7: =D6+1 -> 223 | F7: =IF(B7=B$1,INDEX(Dots!E:E,D7),"") | G7: =SUMIF(A$127:A$20012,A7,G$127:G$20012) -> 0 | H7: =SUMIF(A$127:A$20012,A7,H$127:H$20012) -> 0 | I7: =IF(B7=B$1,INDEX(Dots!G:G,D7),"") | J7: =IF(B7=B$1,INDEX(Dots!H:H,D7),"") | K7: =IF(B7=B$1,INDEX(Dots!F:F,D7),"")
A8: =IF(B8=B$1,"("&I8&")"&" - "&INDEX(Dots!D:D,D8),"") | B8: =INDEX(Dots!A:A,D8) -> 31745466 | D8: =D7+1 -> 224 | F8: =IF(B8=B$1,INDEX(Dots!E:E,D8),"") | G8: =SUMIF(A$127:A$20012,A8,G$127:G$20012) -> 0 | H8: =SUMIF(A$127:A$20012,A8,H$127:H$20012) -> 0 | I8: =IF(B8=B$1,INDEX(Dots!G:G,D8),"") | J8: =IF(B8=B$1,INDEX(Dots!H:H,D8),"") | K8: =IF(B8=B$1,INDEX(Dots!F:F,D8),"")
A9: =IF(B9=B$1,"("&I9&")"&" - "&INDEX(Dots!D:D,D9),"") | B9: =INDEX(Dots!A:A,D9) -> 31745466 | D9: =D8+1 -> 225 | F9: =IF(B9=B$1,INDEX(Dots!E:E,D9),"") | G9: =SUMIF(A$127:A$20012,A9,G$127:G$20012) -> 0 | H9: =SUMIF(A$127:A$20012,A9,H$127:H$20012) -> 0 | I9: =IF(B9=B$1,INDEX(Dots!G:G,D9),"") | J9: =IF(B9=B$1,INDEX(Dots!H:H,D9),"") | K9: =IF(B9=B$1,INDEX(Dots!F:F,D9),"")
A10: =IF(B10=B$1,"("&I10&")"&" - "&INDEX(Dots!D:D,D10),"") | B10: =INDEX(Dots!A:A,D10) -> 31745466 | D10: =D9+1 -> 226 | F10: =IF(B10=B$1,INDEX(Dots!E:E,D10),"") | G10: =SUMIF(A$127:A$20012,A10,G$127:G$20012) -> 0 | H10: =SUMIF(A$127:A$20012,A10,H$127:H$20012) -> 0 | I10: =IF(B10=B$1,INDEX(Dots!G:G,D10),"") | J10: =IF(B10=B$1,INDEX(Dots!H:H,D10),"") | K10: =IF(B10=B$1,INDEX(Dots!F:F,D10),"")
A11: =IF(B11=B$1,"("&I11&")"&" - "&INDEX(Dots!D:D,D11),"") | B11: =INDEX(Dots!A:A,D11) -> 31745466 | D11: =D10+1 -> 227 | F11: =IF(B11=B$1,INDEX(Dots!E:E,D11),"") | G11: =SUMIF(A$127:A$20012,A11,G$127:G$20012) -> 0 | H11: =SUMIF(A$127:A$20012,A11,H$127:H$20012) -> 0 | I11: =IF(B11=B$1,INDEX(Dots!G:G,D11),"") | J11: =IF(B11=B$1,INDEX(Dots!H:H,D11),"") | K11: =IF(B11=B$1,INDEX(Dots!F:F,D11),"")
A12: =IF(B12=B$1,"("&I12&")"&" - "&INDEX(Dots!D:D,D12),"") | B12: =INDEX(Dots!A:A,D12) -> 31745466 | D12: =D11+1 -> 228 | F12: =IF(B12=B$1,INDEX(Dots!E:E,D12),"") | G12: =SUMIF(A$127:A$20012,A12,G$127:G$20012) -> 0 | H12: =SUMIF(A$127:A$20012,A12,H$127:H$20012) -> 0 | I12: =IF(B12=B$1,INDEX(Dots!G:G,D12),"") | J12: =IF(B12=B$1,INDEX(Dots!H:H,D12),"") | K12: =IF(B12=B$1,INDEX(Dots!F:F,D12),"")
A13: =IF(B13=B$1,"("&I13&")"&" - "&INDEX(Dots!D:D,D13),"") | B13: =INDEX(Dots!A:A,D13) -> 31745466 | D13: =D12+1 -> 229 | F13: =IF(B13=B$1,INDEX(Dots!E:E,D13),"") | G13: =SUMIF(A$127:A$20012,A13,G$127:G$20012) -> 0 | H13: =SUMIF(A$127:A$20012,A13,H$127:H$20012) -> 0 | I13: =IF(B13=B$1,INDEX(Dots!G:G,D13),"") | J13: =IF(B13=B$1,INDEX(Dots!H:H,D13),"") | K13: =IF(B13=B$1,INDEX(Dots!F:F,D13),"")
A14: =IF(B14=B$1,"("&I14&")"&" - "&INDEX(Dots!D:D,D14),"") | B14: =INDEX(Dots!A:A,D14) -> 00688819 | D14: =D13+1 -> 230 | F14: =IF(B14=B$1,INDEX(Dots!E:E,D14),"") | G14: =SUMIF(A$127:A$20012,A14,G$127:G$20012) -> 0 | H14: =SUMIF(A$127:A$20012,A14,H$127:H$20012) -> 0 | I14: =IF(B14=B$1,INDEX(Dots!G:G,D14),"") | J14: =IF(B14=B$1,INDEX(Dots!H:H,D14),"") | K14: =IF(B14=B$1,INDEX(Dots!F:F,D14),"")
... A101: =IF(B101=B$1,"("&I101&")"&" - "&INDEX(Dots!D:D,D101),"") | B101: =INDEX(Dots!A:A,D101) -> 30811082 | D101: =D100+1 -> 317 | F101: =IF(B101=B$1,INDEX(Dots!E:E,D101),"") | G101: =SUMIF(A$127:A$20012,A101,G$127:G$20012) -> 0 | H101: =SUMIF(A$127:A$20012,A101,H$127:H$20012) -> 0 | I101: =IF(B101=B$1,INDEX(Dots!G:G,D101),"") | J101: =IF(B101=B$1,INDEX(Dots!H:H,D101),"") | K101: =IF(B101=B$1,INDEX(Dots!F:F,D101),"")
E105: Organizácia podujatia názov podujatia (napr. Kongres ISF, Svetový pohár ICU): miesto konania (napr. Komjatice): termín (od-do) (napr. 1.5.-15.5.2013): počet aktívnych účastníkov (napr. 223): počet odpracovaných hodín spolu: (napr. 690): hrubé mzdy vyplatené osobám v súvislosti s podujatím vrátane odvodov zamestnávateľa spolu (dohody, zmluvy, faktúry, a pod.) v eur:
E106: Hrubé mzdy vyplatené osobám (zamestnancom) vrátane odvodov zamestnávateľa počet fyzických osôb (napr. 3): obdobie (napr. január - marec):
E107: Služobné motorové vozidlo EČV (napr. BB 123 AK): Obdobie (napr. 3.7.-28.7.2013): Najazdené kilometre (napr. 1 211 km):
E108: Pracovná cesta (napr. výjazd na výkonný výbor, na majstrovstvá) Názov (napr. majstrovstvá sveta, sústredenie, kongres, zasadnutie komisie): Termín (napr. 1.5.-3.6.2013): Miesto - mesto a štát (napr. Palermo, Taliansko): Spôsob dopravy (napr. letecky): Počet všetkých osôb na pracovnej ceste (napr. 17) z toho: - športovci (+ navádzači): 12 - tréneri + rozhodcovia + vedúci výpravy + administratívni pracovníci + lekár + fyzioterapeut + masér + ): 2 - ostatné osoby (napr. sponzori, hostia): 3
A109: Vyúčtovanie dotácie poskytnutej zo štátneho rozpočtu v oblasti športu v roku 2016
A110: Zoznam účtovných dokladov (PRI VYPĹŇANÍ SA RIAĎTE POKYNMI Z PRVÉHO HÁRKU "Pokyny")
H111: V1
A112: Prijímateľ dotácie: | B112: 72 | H112: 42411
A114: Čestne vyhlasujem, že
A115: a) všetky uvedené údaje sú pravdivé,
A116: b) dolu podpísaná osoba/osoby je oprávnená/sú oprávnené v súlade so stanovami, resp. zriaďovacou listinou na podpis vyúčtovania dotácie poskytnutej v roku 2016.
A117: c) toto vytlačené a podpísané vyúčtovanie je zhodné s hárkom, ktorý sme zaslali na adresu ziadosti.sport@minedu.sk dňa ....................... o .......... hod. ........ min.
A118: Súhlasím so zhromažďovaním, spracovávaním a zverejňovaním poskytnutých údajov.
A120: ="Dátum: "& TEXT(NOW(),"d.m.yyyy") -> Dátum: 27.1.2017
A121: Michaela Danková, mis.dankova@gmail.com | E121: Andrej Škovrán
A122: MENO, PRIEZVISKO, E-MAIL a MOBIL osoby, ktorá spracovala vyúčtovanie | E122: MENO, PRIEZVISKO a PODPIS štatutárneho zástupcu/zástupcov oprávneného v súlade so stanovami/zriaďovacou listinou na podpis vyúčtovania dotácie poskytnutej v roku 2016
A124: Účel úhrady (VYBRAŤ ZO ZOZNAMU, INAK AUTOMATICKÉ VYHODNOCOVANIE NEBUDE FUNGOVAŤ) | B124: Interné číslo účtovného dokladu | C124: Číslo externého (originálneho) účtovného dokladu | D124: Dátum skutočnej úhrady účtovného dokladu | E124: Popis úhrady (vyberte z rozbaľovacieho zoznamu, alebo zadajte voľný text) | F124: Dodávateľ plnenia | G124: Skutočne uhradená suma Z DOTÁCIE (eur) | H124: Skutočne uhradená suma AKO SPOLUF. (eur)
A125: ÚDAJE ZORADIŤ PODĽA ÚČELU ÚHRADY A V RÁMCI JEDNÉHO ÚČELU PODĽA POPISU ÚHRADY
A127: (01) - športová reprezentácia SR a rozvoj športových odvetví (SR a zahraničie, celý rok 2016) | E127: Pracovná cesta Názov: Majstrovstvá Európy v skialpinizme Termín: 4.-8.2.2016 Miesto: Martgny, Švajčiarsko Spôsob dopravy: osobným autom Počet všetkých osôb na pracovnej ceste: 5 z toho: 4 pretekári, 1 coach - tréneri + rozhodcovia + vedúci výpravy + administratívni pracovníci + lekár + fyzioterapeut + masér + ): 2 - ostatné osoby (napr. sponzori, hostia): 3
A128: (01) - športová reprezentácia SR a rozvoj športových odvetví (SR a zahraničie, celý rok 2016) | B128: B01-02-0001 | D128: 42402 | E128: štartovné | G128: 230 | H128: 100
A129: (01) - športová reprezentácia SR a rozvoj športových odvetví (SR a zahraničie, celý rok 2016) | B129: B01-02-0002 | C129: CHE-107914172 | D129: 42408 | E129: ubytovanie | F129: Alpes & Rhone Hotel | G129: 1640
A130: (01) - športová reprezentácia SR a rozvoj športových odvetví (SR a zahraničie, celý rok 2016) | B130: B01-02-0005 | D130: 42411 | E130: Služobné motorové vozidlo EČV: LM191CI obdobie: 4.2.-8.2.2016 Najazdené kilometre: | F130: Andrej Škovrán | G130: 824.5
A131: (01) - športová reprezentácia SR a rozvoj športových odvetví (SR a zahraničie, celý rok 2016) | B131: B01-02-0010 | C131: CHE-112302912 | D131: 42411 | E131: Strava | F131: Steak House Martigny | H131: 110
A132: (01) - športová reprezentácia SR a rozvoj športových odvetví (SR a zahraničie, celý rok 2016) | E132: Pracovná cesta Názov: Svetový pohár mladých v skialpinizme Termín: 17.2.-21.2.2016 Miesto: Transcavallo, Taliansko Spôsob dopravy: osobným autom Počet všetkých osôb na pracovnej ceste: 3 z toho: 2 pretekári, 1 coach - športovci (+ navádzači): 12 - tréneri + rozhodcovia + vedúci výpravy + administratívni pracovníci + lekár + fyzioterapeut + masér + ): 2 - ostatné osoby (napr. sponzori, hostia): 3
A133: (01) - výber a príprava športových talentov (SR a zahraničie, celý rok 2016) | B133: B01-02-0011 | D133: 42415 | E133: štartovné | F133: Comitato Transcavallo | G133: 140
A134: (01) - výber a príprava športových talentov (SR a zahraničie, celý rok 2016) | B134: B01-02-0012 | D134: 42415 | E134: ubytovanie | F134: Comitato Transcavallo | G134: 300 | H134: 300
A135: (01) - výber a príprava športových talentov (SR a zahraničie, celý rok 2016) | B135: B01-02-0014 | D135: 42423 | E135: Služobné motorové vozidlo EČV: LM575BE obdobie: 17.2.-21.2.2016 Najazdené kilometre: 2112 km | F135: Matúš Danko | G135: 602
A136: (01) - výber a príprava športových talentov (SR a zahraničie, celý rok 2016) | B136: B01-04-0002 | D136: 42485 | E136: Diplomy Slovenský pohár | F136: Reproservis Lipt.Mikuláš | G136: 13
A137: (01) - výber a príprava športových talentov (SR a zahraničie, celý rok 2016) | B137: B01-06-0003 | C137: 72 L16 | D137: 42550 | E137: Licencie pretekárov do medzinárodnej asociácie (mládež) | F137: ISMF, Lausanne | G137: 220
A138: (01) - športová reprezentácia SR a rozvoj športových odvetví (SR a zahraničie, celý rok 2016) | B138: B01-06-0003 | C138: 72 L16 | D138: 42550 | E138: Licencie pretekárov do medzinárodnej asociácie (senior) | F138: ISMF, Lausanne | G138: 85
A139: (01) - športová reprezentácia SR a rozvoj športových odvetví (SR a zahraničie, celý rok 2016) | B139: B01-07-0002 | C139: 23/2016 | D139: 42566 | E139: Členský príspevok do medzinárodnej asociácie | F139: ISMF, Lausanne | G139: 800
A140: (01) - športová reprezentácia SR a rozvoj športových odvetví (SR a zahraničie, celý rok 2016) | B140: B01-09-0001 | D140: 42619 | E140: Odmena SP 1.miesto muzi | F140: Jozef Hlavco | G140: 100
A141: (01) - športová reprezentácia SR a rozvoj športových odvetví (SR a zahraničie, celý rok 2016) | B141: B01-09-0002 | D141: 42619 | E141: Odmena SP 2.miesto muzi | F141: Jakub Siarnik | G141: 80
A142: (01) - športová reprezentácia SR a rozvoj športových odvetví (SR a zahraničie, celý rok 2016) | B142: B01-09-0003 | D142: 42619 | E142: Odmena SP 1.miesto zeny | F142: Zuzana Dudasova | G142: 80
A143: (01) - športová reprezentácia SR a rozvoj športových odvetví (SR a zahraničie, celý rok 2016) | B143: B01-09-0004 | D143: 42620 | E143: Odmena SP 3.miesto muzi | F143: Peter Volnar | G143: 20
A144: (01) - športová reprezentácia SR a rozvoj športových odvetví (SR a zahraničie, celý rok 2016) | B144: B01-09-0005 | D144: 42621 | E144: Odmena SP 2.miesto zeny | F144: Barbora Volajova | G144: 60
A145: (01) - športová reprezentácia SR a rozvoj športových odvetví (SR a zahraničie, celý rok 2016) | B145: B01-09-0007 | D145: 42622 | E145: Odmena SP 3.miesto zeny | F145: Lenka Hiklová | G145: 40
A146: (01) - športová reprezentácia SR a rozvoj športových odvetví (SR a zahraničie, celý rok 2016) | B146: B01-10-0001 | D146: 42659 | E146: Odmena SP 3.miesto muzi | F146: Matus Danko | G146: 50
A147: (01) - športová reprezentácia SR a rozvoj športových odvetví (SR a zahraničie, celý rok 2016) | B147: B01-10-0002 | D147: 42659 | E147: Odmena SP 4.miesto muzi | F147: Lukas Trizna | G147: 40
A148: (01) - výber a príprava športových talentov (SR a zahraničie, celý rok 2016) | B148: B01-10-0004 | D148: 42662 | E148: Dotacia slovensky pohar 1.kolo mladez | F148: Skiallp Bobrovec | G148: 400
A149: (01) - výber a príprava športových talentov (SR a zahraničie, celý rok 2016) | B149: B01-10-0005 | D149: 42662 | E149: Dotacia slovensky pohar 2.kolo mladez | F149: Malino skialp team | G149: 400
A150: (01) - športová reprezentácia SR a rozvoj športových odvetví (SR a zahraničie, celý rok 2016) | B150: B01-10-0006 | D150: 42662 | E150: Dotacia slovensky pohar 3.kolo | F150: Skialp Sucany | G150: 400
A151: (01) - športová reprezentácia SR a rozvoj športových odvetví (SR a zahraničie, celý rok 2016) | B151: B01-10-0007 | D151: 42662 | E151: Dotacia slovensky pohar 4.kolo | F151: Skialp4u | G151: 400
A152: (01) - športová reprezentácia SR a rozvoj športových odvetví (SR a zahraničie, celý rok 2016) | B152: B01-11-0003 | D152: 42677 | E152: Odmeny pretekarom- stredoeuropsky pohar | F152: Jozef Hlavco, Matus Danko, Lukas Trizna, Juraj Lastik, Zuzana Dudasova, Barbora Volajova | G152: 300
A153: (01) - športová reprezentácia SR a rozvoj športových odvetví (SR a zahraničie, celý rok 2016) | B153: B01-11-0009 | C153: 5004020484443001 | D153: 42702 | E153: Valné zhromaždenie- prenájom priestorov | F153: Penzión u Šulov, Ružomberok | G153: 60
A154: (01) - športová reprezentácia SR a rozvoj športových odvetví (SR a zahraničie, celý rok 2016) | B154: B01-12-0002 | C154: 1549/2016 | D154: 42723 | E154: Notársky poplatok-registrácia do zoznamu prijímateľov 2% z dane | F154: JDDr. Milena Gešková | G154: 55
A155: (01) - výber a príprava športových talentov (SR a zahraničie, celý rok 2016) | D155: 42723 | E155: Pracovná cesta Názov: Medzinárodné sústredenie madých Termín: 8.-11.12.2016 Miesto: Obertauern, Rakúsko Spôsob dopravy: osobným autom Počet všetkých osôb na pracovnej ceste: 6 z toho: 5 pretekári, 1 coach - tréneri + rozhodcovia + vedúci výpravy + administratívni pracovníci + lekár + fyzioterapeut + masér + ): 2 - ostatné osoby (napr. sponzori, hostia): 3 | F155: SKIMO Austria
A156: (01) - výber a príprava športových talentov (SR a zahraničie, celý rok 2016) | B156: B01-12-0004 | D156: 42723 | E156: ubytovanie | F156: SKIMO Austria | G156: 425 | H156: 219
A157: (01) - športová reprezentácia SR a rozvoj športových odvetví (SR a zahraničie, celý rok 2016) | B157: B01-12-0006 | C157: 012016 | D157: 42732 | E157: internetová stránka SSA: skialpuj.sk | F157: Ján Šarmír | G157: 835.5 | H157: 54.5
A158: (01) - športová reprezentácia SR a rozvoj športových odvetví (SR a zahraničie, celý rok 2016) | B158: B01-12-0007 | C158: 022016 | D158: 42732 | E158: doména, hosting webu skialpuj.sk | F158: Ján Šarmír | H158: 120

Sheet Spolu
A1: Vyúčtovanie dotácie poskytnutej zo štátneho rozpočtu v oblasti športu v roku 2016
B3: Prijímateľ dotácie: | C3: =INDEX(Adr!E:E,Doklady!B112+1) -> Slovenská skialpinistická asociácia | G3: =Doklady!H111 -> V1
B4: IČO: | C4: =RIGHT("0000"&INDEX(Adr!A:A,Doklady!B112+1),8) -> 37998919 | G4: =Doklady!H112 -> 42411
B5: Právna forma: | C5: =INDEX(Adr!F:F,Doklady!B112+1) -> občianske združenie
B6: Sídlo: | C6: =INDEX(Adr!G:G,Doklady!B112+1)&", "&INDEX(Adr!H:H,Doklady!B112+1)&", "&INDEX(Adr!I:I,Doklady!B112+1) -> Bobrovec 550, Bobrovec, 032 21
B7: IBAN: | C7: =INDEX(Adr!J:J,Doklady!B112+1) -> SK6911000000002620098466
A9: PPG | B9: Podprogram | C9: Poskytnutá dotácia | G9: Povinnosť vrátiť
A10: 026 01 | B10: Šport na školách a rekreačný šport | C10: =SUMIF($A$29:$A$78,$A10,C$29:C$78) -> 0 | D10: =SUMIF($A$29:$A$78,$A10,D$29:D$78) -> 0 | G10: =SUMIF($A$29:$A$78,$A10,G$29:G$78) -> 0
A11: 026 02 | B11: Štátna športová reprezentácia a rozvoj športových odvetví | C11: =SUMIF($A$29:$A$78,$A11,C$29:C$78) -> 6100 | D11: =SUMIF($A$29:$A$78,$A11,D$29:D$78) -> 6100 | G11: =SUMIF($A$29:$A$78,$A11,G$29:G$78)+G19 -> 0
A12: 026 03 | B12: Športovo talentovaná mládež | C12: =SUMIF($A$29:$A$78,$A12,C$29:C$78) -> 2500 | D12: =SUMIF($A$29:$A$78,$A12,D$29:D$78) -> 2500 | G12: =SUMIF($A$29:$A$78,$A12,G$29:G$78) -> 0
A13: 026 04 | B13: Materiálno-technický rozvoj športu | C13: =SUMIF($A$29:$A$78,$A13,C$29:C$78) -> 0 | D13: =SUMIF($A$29:$A$78,$A13,D$29:D$78) -> 0 | G13: =SUMIF($A$29:$A$78,$A13,G$29:G$78) -> 0
A14: 026 05 | B14: Koordinácia projektov a prierezové činnosti v športe | C14: =SUMIF($A$29:$A$78,$A14,C$29:C$78) -> 0 | D14: =SUMIF($A$29:$A$78,$A14,D$29:D$78) -> 0 | G14: =SUMIF($A$29:$A$78,$A14,G$29:G$78) -> 0
B15: SPOLU | C15: =SUM(C10:C14) -> 8600
A17: Číslo účelu | B17: Účel výzvy | C17: Poskytnutá dotácia | D17: Vyúčtovaná dotácia | E17: Minimálne spolufinanc. | F17: Vyúčtované spolufinanc | G17: Povinnosť vrátiť
A18: 01 | B18: Zabezpečenie športovej reprezentácie, výber a príprava športových talentov, rozvoj športových odvetví | C18: =SUMIF($H$29:$H$78,$A18,C$29:C$78) -> 8600 | G18: =SUMIF($H$29:$H$78,$A18,G$29:G$78) -> 0
A19: 02 | B19: Športová príprava vybraných športovcov a športových kolektívov | C19: =SUMIF($H$29:$H$78,$A19,C$29:C$78) -> 0 | D19: =SUMIF(Doklady!I$2:I$101,102,Doklady!G$2:G$101) -> 0 | E19: =D19/(1-0.05)-D19 -> 0 | F19: =SUMIF(Doklady!I$2:I$101,102,Doklady!H$2:H$101) -> 0 | G19: =IF(D19>C19,"CHYBA!",-(MIN(D19-C19,(D19+F19)*(1-0.05)-C19))) -> 0 | I19: =IF(C19<>"",IF(G19="CHYBA!","Vyúčtovaná dotácia je o "&TEXT(D19-C19,"### ### ###,00")&" eur vyššia ako poskytnutá. Opravte!",""),"")
A20: 03 | B20: Poskytnutie finančnej odmeny pre športovcov za výsledky dosiahnuté v roku 2015 a pre trénerov mládeže, ktorí sa rozhodujúcou mierou podieľali na príprave juniorských športovcov, úspešných v roku 2015 | C20: =SUMIF($H$29:$H$78,$A20,C$29:C$78) -> 0 | G20: =SUMIF($H$29:$H$78,$A20,G$29:G$78) -> 0
A21: 04 | B21: Organizovanie významných medzinárodných športových podujatí na území SR | C21: =SUMIF($H$29:$H$78,$A21,C$29:C$78) -> 0 | G21: =SUMIF($H$29:$H$78,$A21,G$29:G$78) -> 0
A22: 05 | B22: Materiálno-technické zabezpečenie športovej reprezentácie SR | C22: =SUMIF($H$29:$H$78,$A22,C$29:C$78) -> 0 | G22: =SUMIF($H$29:$H$78,$A22,G$29:G$78) -> 0
A23: 06 | B23: Projekty vo všeobecnom záujme (bežné výdavky) | C23: =SUMIF($H$29:$H$78,$A23,C$29:C$78) -> 0 | G23: =SUMIF($H$29:$H$78,$A23,G$29:G$78) -> 0
A24: 07 | B24: Projekty vo všeobecnom záujme (športová infraštruktúra osobitného významu) | C24: =SUMIF($H$29:$H$78,$A24,C$29:C$78) -> 0 | G24: =SUMIF($H$29:$H$78,$A24,G$29:G$78) -> 0
A25: 08 | B25: Projekty vo všeobecnom záujme (rekonštrukcia, modernizácia a budovanie futbalových štadiónov) | C25: =SUMIF($H$29:$H$78,$A25,C$29:C$78) -> 0 | G25: =SUMIF($H$29:$H$78,$A25,G$29:G$78) -> 0
A26: 09 | B26: Zapojenie detí a mládeže do pohybových aktivít | C26: =SUMIF($H$29:$H$78,$A26,C$29:C$78) -> 0 | G26: =SUMIF($H$29:$H$78,$A26,G$29:G$78) -> 0
A28: PPG | B28: Predmet dotácie | C28: Poskytnutá dotácia | D28: Vyúčtovaná dotácia | E28: Minimálne spolufinanc. | F28: Vyúčtované spolufinanc | G28: Povinnosť vrátiť
A29: =Doklady!J2 -> 026 02 | B29: =Doklady!A2 -> (01) - športová reprezentácia SR a rozvoj športových odvetví (SR a zahraničie, celý rok 2016) | C29: =IF(H29>0,Doklady!F2,"") -> 6100 | D29: =IF(C29<>"",Doklady!G2,"") -> 6100 | E29: =IF(C29<>"",IF(H29<>102,D29/(1-Doklady!K2)-D29,""),"") -> 321.05263 | F29: =IF(C29<>"",IF(H29<>102,Doklady!H2,""),"") -> 384.5 | G29: =IF(C29<>"",IF(H29<>102,IF(D29>C29,"CHYBA!",-(MIN(D29-C29,(D29+F29)*(1-Doklady!K2)-C29))),""),"") -> 0 | H29: =Doklady!I2 -> 01 | I29: =IF(C29<>"",IF(G29="CHYBA!","Vyúčtovaná dotácia je o "&TEXT(D29-C29,"### ### ###,00")&" eur väčšia ako poskytnutá. Opravte!",""),"")
A30: =Doklady!J3 -> 026 03 | B30: =Doklady!A3 -> (01) - výber a príprava športových talentov (SR a zahraničie, celý rok 2016) | C30: =IF(H30>0,Doklady!F3,"") -> 2500 | D30: =IF(C30<>"",Doklady!G3,"") -> 2500 | E30: =IF(C30<>"",IF(H30<>102,D30/(1-Doklady!K3)-D30,""),"") -> 131.57895 | F30: =IF(C30<>"",IF(H30<>102,Doklady!H3,""),"") -> 519 | G30: =IF(C30<>"",IF(H30<>102,IF(D30>C30,"CHYBA!",-(MIN(D30-C30,(D30+F30)*(1-Doklady!K3)-C30))),""),"") -> 0 | H30: =Doklady!I3 -> 01 | I30: =IF(C30<>"",IF(G30="CHYBA!","Vyúčtovaná dotácia je o "&TEXT(D30-C30,"### ### ###,00")&" eur väčšia ako poskytnutá. Opravte!",""),"")
A31: =Doklady!J4 | B31: =Doklady!A4 | C31: =IF(H31>0,Doklady!F4,"") | D31: =IF(C31<>"",Doklady!G4,"") | E31: =IF(C31<>"",IF(H31<>102,D31/(1-Doklady!K4)-D31,""),"") | F31: =IF(C31<>"",IF(H31<>102,Doklady!H4,""),"") | G31: =IF(C31<>"",IF(H31<>102,IF(D31>C31,"CHYBA!",-(MIN(D31-C31,(D31+F31)*(1-Doklady!K4)-C31))),""),"") | H31: =Doklady!I4 | I31: =IF(C31<>"",IF(G31="CHYBA!","Vyúčtovaná dotácia je o "&TEXT(D31-C31,"### ### ###,00")&" eur väčšia ako poskytnutá. Opravte!",""),"")
A32: =Doklady!J5 | B32: =Doklady!A5 | C32: =IF(H32>0,Doklady!F5,"") | D32: =IF(C32<>"",Doklady!G5,"") | E32: =IF(C32<>"",IF(H32<>102,D32/(1-Doklady!K5)-D32,""),"") | F32: =IF(C32<>"",IF(H32<>102,Doklady!H5,""),"") | G32: =IF(C32<>"",IF(H32<>102,IF(D32>C32,"CHYBA!",-(MIN(D32-C32,(D32+F32)*(1-Doklady!K5)-C32))),""),"") | H32: =Doklady!I5 | I32: =IF(C32<>"",IF(G32="CHYBA!","Vyúčtovaná dotácia je o "&TEXT(D32-C32,"### ### ###,00")&" eur väčšia ako poskytnutá. Opravte!",""),"")
A33: =Doklady!J6 | B33: =Doklady!A6 | C33: =IF(H33>0,Doklady!F6,"") | D33: =IF(C33<>"",Doklady!G6,"") | E33: =IF(C33<>"",IF(H33<>102,D33/(1-Doklady!K6)-D33,""),"") | F33: =IF(C33<>"",IF(H33<>102,Doklady!H6,""),"") | G33: =IF(C33<>"",IF(H33<>102,IF(D33>C33,"CHYBA!",-(MIN(D33-C33,(D33+F33)*(1-Doklady!K6)-C33))),""),"") | H33: =Doklady!I6 | I33: =IF(C33<>"",IF(G33="CHYBA!","Vyúčtovaná dotácia je o "&TEXT(D33-C33,"### ### ###,00")&" eur väčšia ako poskytnutá. Opravte!",""),"")
A34: =Doklady!J7 | B34: =Doklady!A7 | C34: =IF(H34>0,Doklady!F7,"") | D34: =IF(C34<>"",Doklady!G7,"") | E34: =IF(C34<>"",IF(H34<>102,D34/(1-Doklady!K7)-D34,""),"") | F34: =IF(C34<>"",IF(H34<>102,Doklady!H7,""),"") | G34: =IF(C34<>"",IF(H34<>102,IF(D34>C34,"CHYBA!",-(MIN(D34-C34,(D34+F34)*(1-Doklady!K7)-C34))),""),"") | H34: =Doklady!I7 | I34: =IF(C34<>"",IF(G34="CHYBA!","Vyúčtovaná dotácia je o "&TEXT(D34-C34,"### ### ###,00")&" eur väčšia ako poskytnutá. Opravte!",""),"")
A35: =Doklady!J8 | B35: =Doklady!A8 | C35: =IF(H35>0,Doklady!F8,"") | D35: =IF(C35<>"",Doklady!G8,"") | E35: =IF(C35<>"",IF(H35<>102,D35/(1-Doklady!K8)-D35,""),"") | F35: =IF(C35<>"",IF(H35<>102,Doklady!H8,""),"") | G35: =IF(C35<>"",IF(H35<>102,IF(D35>C35,"CHYBA!",-(MIN(D35-C35,(D35+F35)*(1-Doklady!K8)-C35))),""),"") | H35: =Doklady!I8 | I35: =IF(C35<>"",IF(G35="CHYBA!","Vyúčtovaná dotácia je o "&TEXT(D35-C35,"### ### ###,00")&" eur väčšia ako poskytnutá. Opravte!",""),"")
A36: =Doklady!J9 | B36: =Doklady!A9 | C36: =IF(H36>0,Doklady!F9,"") | D36: =IF(C36<>"",Doklady!G9,"") | E36: =IF(C36<>"",IF(H36<>102,D36/(1-Doklady!K9)-D36,""),"") | F36: =IF(C36<>"",IF(H36<>102,Doklady!H9,""),"") | G36: =IF(C36<>"",IF(H36<>102,IF(D36>C36,"CHYBA!",-(MIN(D36-C36,(D36+F36)*(1-Doklady!K9)-C36))),""),"") | H36: =Doklady!I9 | I36: =IF(C36<>"",IF(G36="CHYBA!","Vyúčtovaná dotácia je o "&TEXT(D36-C36,"### ### ###,00")&" eur väčšia ako poskytnutá. Opravte!",""),"")
A37: =Doklady!J10 | B37: =Doklady!A10 | C37: =IF(H37>0,Doklady!F10,"") | D37: =IF(C37<>"",Doklady!G10,"") | E37: =IF(C37<>"",IF(H37<>102,D37/(1-Doklady!K10)-D37,""),"") | F37: =IF(C37<>"",IF(H37<>102,Doklady!H10,""),"") | G37: =IF(C37<>"",IF(H37<>102,IF(D37>C37,"CHYBA!",-(MIN(D37-C37,(D37+F37)*(1-Doklady!K10)-C37))),""),"") | H37: =Doklady!I10 | I37: =IF(C37<>"",IF(G37="CHYBA!","Vyúčtovaná dotácia je o "&TEXT(D37-C37,"### ### ###,00")&" eur väčšia ako poskytnutá. Opravte!",""),"")
A38: =Doklady!J11 | B38: =Doklady!A11 | C38: =IF(H38>0,Doklady!F11,"") | D38: =IF(C38<>"",Doklady!G11,"") | E38: =IF(C38<>"",IF(H38<>102,D38/(1-Doklady!K11)-D38,""),"") | F38: =IF(C38<>"",IF(H38<>102,Doklady!H11,""),"") | G38: =IF(C38<>"",IF(H38<>102,IF(D38>C38,"CHYBA!",-(MIN(D38-C38,(D38+F38)*(1-Doklady!K11)-C38))),""),"") | H38: =Doklady!I11 | I38: =IF(C38<>"",IF(G38="CHYBA!","Vyúčtovaná dotácia je o "&TEXT(D38-C38,"### ### ###,00")&" eur väčšia ako poskytnutá. Opravte!",""),"")
A39: =Doklady!J12 | B39: =Doklady!A12 | C39: =IF(H39>0,Doklady!F12,"") | D39: =IF(C39<>"",Doklady!G12,"") | E39: =IF(C39<>"",IF(H39<>102,D39/(1-Doklady!K12)-D39,""),"") | F39: =IF(C39<>"",IF(H39<>102,Doklady!H12,""),"") | G39: =IF(C39<>"",IF(H39<>102,IF(D39>C39,"CHYBA!",-(MIN(D39-C39,(D39+F39)*(1-Doklady!K12)-C39))),""),"") | H39: =Doklady!I12 | I39: =IF(C39<>"",IF(G39="CHYBA!","Vyúčtovaná dotácia je o "&TEXT(D39-C39,"### ### ###,00")&" eur väčšia ako poskytnutá. Opravte!",""),"")
A40: =Doklady!J13 | B40: =Doklady!A13 | C40: =IF(H40>0,Doklady!F13,"") | D40: =IF(C40<>"",Doklady!G13,"") | E40: =IF(C40<>"",IF(H40<>102,D40/(1-Doklady!K13)-D40,""),"") | F40: =IF(C40<>"",IF(H40<>102,Doklady!H13,""),"") | G40: =IF(C40<>"",IF(H40<>102,IF(D40>C40,"CHYBA!",-(MIN(D40-C40,(D40+F40)*(1-Doklady!K13)-C40))),""),"") | H40: =Doklady!I13 | I40: =IF(C40<>"",IF(G40="CHYBA!","Vyúčtovaná dotácia je o "&TEXT(D40-C40,"### ### ###,00")&" eur väčšia ako poskytnutá. Opravte!",""),"")
... A47: =Doklady!J20 | B47: =Doklady!A20 | C47: =IF(H47>0,Doklady!F20,"") | D47: =IF(C47<>"",Doklady!G20,"") | E47: =IF(C47<>"",IF(H47<>102,D47/(1-Doklady!K20)-D47,""),"") | F47: =IF(C47<>"",IF(H47<>102,Doklady!H20,""),"") | G47: =IF(C47<>"",IF(H47<>102,IF(D47>C47,"CHYBA!",-(MIN(D47-C47,(D47+F47)*(1-Doklady!K20)-C47))),""),"") | H47: =Doklady!I20 | I47: =IF(C47<>"",IF(G47="CHYBA!","Vyúčtovaná dotácia je o "&TEXT(D47-C47,"### ### ###,00")&" eur väčšia ako poskytnutá. Opravte!",""),"")
A48: =Doklady!J21 | B48: =Doklady!A21 | C48: =IF(H48>0,Doklady!F21,"") | D48: =IF(C48<>"",IF(H48<>102,Doklady!G21,""),"") | E48: =IF(C48<>"",IF(H48<>102,D48/(1-Doklady!K21)-D48,""),"") | F48: =IF(C48<>"",IF(H48<>102,Doklady!H21,""),"") | G48: =IF(C48<>"",IF(H48<>102,IF(D48>C48,"CHYBA!",-(MIN(D48-C48,(D48+F48)*(1-Doklady!K21)-C48))),""),"") | H48: =Doklady!I21 | I48: =IF(C48<>"",IF(G48="CHYBA!","Vyúčtovaná dotácia je o "&TEXT(D48-C48,"### ### ###,00")&" eur väčšia ako poskytnutá. Opravte!",""),"")
A49: =Doklady!J22 | B49: =Doklady!A22 | C49: =IF(H49>0,Doklady!F22,"") | D49: =IF(C49<>"",IF(H49<>102,Doklady!G22,""),"") | E49: =IF(C49<>"",IF(H49<>102,D49/(1-Doklady!K22)-D49,""),"") | F49: =IF(C49<>"",IF(H49<>102,Doklady!H22,""),"") | G49: =IF(C49<>"",IF(H49<>102,IF(D49>C49,"CHYBA!",-(MIN(D49-C49,(D49+F49)*(1-Doklady!K22)-C49))),""),"") | H49: =Doklady!I22 | I49: =IF(C49<>"",IF(G49="CHYBA!","Vyúčtovaná dotácia je o "&TEXT(D49-C49,"### ### ###,00")&" eur väčšia ako poskytnutá. Opravte!",""),"")
A50: =Doklady!J23 | B50: =Doklady!A23 | C50: =IF(H50>0,Doklady!F23,"") | D50: =IF(C50<>"",IF(H50<>102,Doklady!G23,""),"") | E50: =IF(C50<>"",IF(H50<>102,D50/(1-Doklady!K23)-D50,""),"") | F50: =IF(C50<>"",IF(H50<>102,Doklady!H23,""),"") | G50: =IF(C50<>"",IF(H50<>102,IF(D50>C50,"CHYBA!",-(MIN(D50-C50,(D50+F50)*(1-Doklady!K23)-C50))),""),"") | H50: =Doklady!I23 | I50: =IF(C50<>"",IF(G50="CHYBA!","Vyúčtovaná dotácia je o "&TEXT(D50-C50,"### ### ###,00")&" eur väčšia ako poskytnutá. Opravte!",""),"")
A51: =Doklady!J24 | B51: =Doklady!A24 | C51: =IF(H51>0,Doklady!F24,"") | D51: =IF(C51<>"",IF(H51<>102,Doklady!G24,""),"") | E51: =IF(C51<>"",IF(H51<>102,D51/(1-Doklady!K24)-D51,""),"") | F51: =IF(C51<>"",IF(H51<>102,Doklady!H24,""),"") | G51: =IF(C51<>"",IF(H51<>102,IF(D51>C51,"CHYBA!",-(MIN(D51-C51,(D51+F51)*(1-Doklady!K24)-C51))),""),"") | H51: =Doklady!I24 | I51: =IF(C51<>"",IF(G51="CHYBA!","Vyúčtovaná dotácia je o "&TEXT(D51-C51,"### ### ###,00")&" eur väčšia ako poskytnutá. Opravte!",""),"")
A52: =Doklady!J25 | B52: =Doklady!A25 | C52: =IF(H52>0,Doklady!F25,"") | D52: =IF(C52<>"",IF(H52<>102,Doklady!G25,""),"") | E52: =IF(C52<>"",IF(H52<>102,D52/(1-Doklady!K25)-D52,""),"") | F52: =IF(C52<>"",IF(H52<>102,Doklady!H25,""),"") | G52: =IF(C52<>"",IF(H52<>102,IF(D52>C52,"CHYBA!",-(MIN(D52-C52,(D52+F52)*(1-Doklady!K25)-C52))),""),"") | H52: =Doklady!I25 | I52: =IF(C52<>"",IF(G52="CHYBA!","Vyúčtovaná dotácia je o "&TEXT(D52-C52,"### ### ###,00")&" eur väčšia ako poskytnutá. Opravte!",""),"")
A53: =Doklady!J26 | B53: =Doklady!A26 | C53: =IF(H53>0,Doklady!F26,"") | D53: =IF(C53<>"",IF(H53<>102,Doklady!G26,""),"") | E53: =IF(C53<>"",IF(H53<>102,D53/(1-Doklady!K26)-D53,""),"") | F53: =IF(C53<>"",IF(H53<>102,Doklady!H26,""),"") | G53: =IF(C53<>"",IF(H53<>102,IF(D53>C53,"CHYBA!",-(MIN(D53-C53,(D53+F53)*(1-Doklady!K26)-C53))),""),"") | H53: =Doklady!I26 | I53: =IF(C53<>"",IF(G53="CHYBA!","Vyúčtovaná dotácia je o "&TEXT(D53-C53,"### ### ###,00")&" eur väčšia ako poskytnutá. Opravte!",""),"")
A54: =Doklady!J27 | B54: =Doklady!A27 | C54: =IF(H54>0,Doklady!F27,"") | D54: =IF(C54<>"",IF(H54<>102,Doklady!G27,""),"") | E54: =IF(C54<>"",IF(H54<>102,D54/(1-Doklady!K27)-D54,""),"") | F54: =IF(C54<>"",IF(H54<>102,Doklady!H27,""),"") | G54: =IF(C54<>"",IF(H54<>102,IF(D54>C54,"CHYBA!",-(MIN(D54-C54,(D54+F54)*(1-Doklady!K27)-C54))),""),"") | H54: =Doklady!I27 | I54: =IF(C54<>"",IF(G54="CHYBA!","Vyúčtovaná dotácia je o "&TEXT(D54-C54,"### ### ###,00")&" eur väčšia ako poskytnutá. Opravte!",""),"")
A55: =Doklady!J28 | B55: =Doklady!A28 | C55: =IF(H55>0,Doklady!F28,"") | D55: =IF(C55<>"",IF(H55<>102,Doklady!G28,""),"") | E55: =IF(C55<>"",IF(H55<>102,D55/(1-Doklady!K28)-D55,""),"") | F55: =IF(C55<>"",IF(H55<>102,Doklady!H28,""),"") | G55: =IF(C55<>"",IF(H55<>102,IF(D55>C55,"CHYBA!",-(MIN(D55-C55,(D55+F55)*(1-Doklady!K28)-C55))),""),"") | H55: =Doklady!I28 | I55: =IF(C55<>"",IF(G55="CHYBA!","Vyúčtovaná dotácia je o "&TEXT(D55-C55,"### ### ###,00")&" eur väčšia ako poskytnutá. Opravte!",""),"")
A56: =Doklady!J29 | B56: =Doklady!A29 | C56: =IF(H56>0,Doklady!F29,"") | D56: =IF(C56<>"",IF(H56<>102,Doklady!G29,""),"") | E56: =IF(C56<>"",IF(H56<>102,D56/(1-Doklady!K29)-D56,""),"") | F56: =IF(C56<>"",IF(H56<>102,Doklady!H29,""),"") | G56: =IF(C56<>"",IF(H56<>102,IF(D56>C56,"CHYBA!",-(MIN(D56-C56,(D56+F56)*(1-Doklady!K29)-C56))),""),"") | H56: =Doklady!I29 | I56: =IF(C56<>"",IF(G56="CHYBA!","Vyúčtovaná dotácia je o "&TEXT(D56-C56,"### ### ###,00")&" eur väčšia ako poskytnutá. Opravte!",""),"")
A57: =Doklady!J30 | B57: =Doklady!A30 | C57: =IF(H57>0,Doklady!F30,"") | D57: =IF(C57<>"",IF(H57<>102,Doklady!G30,""),"") | E57: =IF(C57<>"",IF(H57<>102,D57/(1-Doklady!K30)-D57,""),"") | F57: =IF(C57<>"",IF(H57<>102,Doklady!H30,""),"") | G57: =IF(C57<>"",IF(H57<>102,IF(D57>C57,"CHYBA!",-(MIN(D57-C57,(D57+F57)*(1-Doklady!K30)-C57))),""),"") | H57: =Doklady!I30 | I57: =IF(C57<>"",IF(G57="CHYBA!","Vyúčtovaná dotácia je o "&TEXT(D57-C57,"### ### ###,00")&" eur väčšia ako poskytnutá. Opravte!",""),"")
A58: =Doklady!J31 | B58: =Doklady!A31 | C58: =IF(H58>0,Doklady!F31,"") | D58: =IF(C58<>"",IF(H58<>102,Doklady!G31,""),"") | E58: =IF(C58<>"",IF(H58<>102,D58/(1-Doklady!K31)-D58,""),"") | F58: =IF(C58<>"",IF(H58<>102,Doklady!H31,""),"") | G58: =IF(C58<>"",IF(H58<>102,IF(D58>C58,"CHYBA!",-(MIN(D58-C58,(D58+F58)*(1-Doklady!K31)-C58))),""),"") | H58: =Doklady!I31 | I58: =IF(C58<>"",IF(G58="CHYBA!","Vyúčtovaná dotácia je o "&TEXT(D58-C58,"### ### ###,00")&" eur väčšia ako poskytnutá. Opravte!",""),"")
A59: =Doklady!J32 | B59: =Doklady!A32 | C59: =IF(H59>0,Doklady!F32,"") | D59: =IF(C59<>"",IF(H59<>102,Doklady!G32,""),"") | E59: =IF(C59<>"",IF(H59<>102,D59/(1-Doklady!K32)-D59,""),"") | F59: =IF(C59<>"",IF(H59<>102,Doklady!H32,""),"") | G59: =IF(C59<>"",IF(H59<>102,IF(D59>C59,"CHYBA!",-(MIN(D59-C59,(D59+F59)*(1-Doklady!K32)-C59))),""),"") | H59: =Doklady!I32 | I59: =IF(C59<>"",IF(G59="CHYBA!","Vyúčtovaná dotácia je o "&TEXT(D59-C59,"### ### ###,00")&" eur väčšia ako poskytnutá. Opravte!",""),"")
... A78: =Doklady!J51 | B78: =Doklady!A51 | C78: =IF(H78>0,Doklady!F51,"") | D78: =IF(C78<>"",IF(H78<>102,Doklady!G51,""),"") | E78: =IF(C78<>"",IF(H78<>102,D78/(1-Doklady!K51)-D78,""),"") | F78: =IF(C78<>"",IF(H78<>102,Doklady!H51,""),"") | G78: =IF(C78<>"",IF(H78<>102,IF(D78>C78,"CHYBA!",-(MIN(D78-C78,(D78+F78)*(1-Doklady!K51)-C78))),""),"") | H78: =Doklady!I51 | I78: =IF(C78<>"",IF(G78="CHYBA!","Vyúčtovaná dotácia je o "&TEXT(D78-C78,"### ### ###,00")&" eur väčšia ako poskytnutá. Opravte!",""),"")
H79: =Doklady!I52 | I79: =IF(C79<>"",IF(G79="CHYBA!","Vyúčtovaná dotácia je o "&TEXT(D79-C79,"### ### ###,00")&" eur väčšia ako poskytnutá. Opravte!",""),"")
A80: Čestne vyhlasujem, že
A81: a) všetky uvedené údaje sú pravdivé,
A82: b) dolu podpísaná osoba/osoby je oprávnená/sú oprávnené v súlade so stanovami, resp. zriaďovacou listinou na podpis vyúčtovania dotácie poskytnutej v roku 2015.
A83: c) toto vytlačené a podpísané vyúčtovanie je zhodné s hárkom, ktorý sme zaslali na adresu ziadosti.sport@minedu.sk dňa ....................... o .......... hod. ........ min.
A85: Súhlasím so zhromažďovaním, spracovávaním a zverejňovaním poskytnutých údajov.
A87: ="Dátum: "& TEXT(NOW(),"d.m.yyyy") -> Dátum: 27.1.2017
C88: =Doklady!E121 -> Andrej Škovrán
C89: meno a priezvisko štatutárneho zástupcu/zástupcov oprávneného/oprávnených na podpis žiadosti a zmluvy o poskytnutí dotácie v súlade so stanovami, resp. zriaďovacou listinou

Sheet Skratky
A1: Zoznam akceptovaných skratiek
A2: Pri vyúčtovaní môžete používať nasledovné skratky. Ak potrebujete, definujte ďalšie.
A3: Skratka | B3: Vysvetlenie
A4: MS | B4: majstrovstvá sveta
A5: ME | B5: majstrovstvá Európy
A6: SP | B6: svetový pohár
A7: EP | B7: európsky pohár
A8: MSR | B8: majstrovstvá Slovenska
A9: VV | B9: výkonný výbor
A10: ŠH | B10: športová hala
A11: PHM | B11: pohonné hmoty
A12: VC | B12: veľká cena
A13: VZ | B13: valné zhromaždenie
A14: EČV | B14: evidenčné číslo vozidla
... A21: CTM | B21: centrum talentovanej mládeže

Sheet Športové talenty
A1: Zoznam športových talentov, na ktorých bola použitá dotácia
A2: Prijímateľ dotácie: | B2: =INDEX(Adr!E:E,Doklady!B112+1) -> Slovenská skialpinistická asociácia
A4: Priezvisko | B4: Meno | C4: Útvar talentovanej mládeže/klub
A5: Šiarnik | B5: Matej | C5: ŠK Žiarska dolina
A6: Šiarnik | B6: Jakub | C6: ŠK Žiarska dolina
A7: Jánošík | B7: Kristián
A8: Marcinek | B8: Marco | C8: Detvianske Lazy

Sheet Adr
A1: IČO | B1: K | C1: Šport | D1: P | E1: Subjekt | F1: Právna forma | G1: Ulica a číslo domu | H1: Mesto | I1: PSČ | J1: Banka | K1: Webové sídlo | L1: E-mail | M1: Štatutárny zástupca | N1: Štatutár - funkcia | O1: Kontakná osoba | P1: Kontakt telefón
A2: 30787009 | B2: A | C2: americký futbal | D2: A - americký futbal - Slovenská asociácia amerického futbalu | E2: Slovenská asociácia amerického futbalu | F2: občianske združenie | G2: Kajsa 1 | H2: Lužianky | I2: 951 41 | J2: SK7075000000004020954045 | K2: www.saaf.sk | L2: info@saaf.sk | M2: Ján Polák | N2: prezident | O2: Ján Polák | P2: 421904984419
A3: 36063835 | B3: A | C3: atletika | D3: A - atletika - Slovenský atletický zväz | E3: Slovenský atletický zväz | F3: občianske združenie | G3: Bajkalská 7A | H3: Bratislava 3 | I3: 831 04 | J3: SK1702000000001785471754 | K3: www.atletikasvk.sk | L3: saz@atletikasvk.sk | M3: Peter Korčok, Vladimír Gubrický | N3: predseda, generálny sekretár | O3: Vladimír Gubrický | P3: 421905278836
A4: 31824021 | B4: A | C4: automobilový šport | D4: A - automobilový šport - Slovenská asociácia motoristického športu | E4: Slovenská asociácia motoristického športu | F4: občianske združenie | G4: Fatranská 3 | H4: Nitra | I4: 949 01 | J4: SK2931000000004220121718 | K4: www.sams-asn.sk | L4: samssk@nextra.sk | M4: Dušan Koblišek | N4: prezident | O4: Vojtech Ruisl | P4: 421903403105
A5: 30844568 | B5: A | C5: baseball a softball | D5: A - baseball a softball - Slovenská baseballová federácia | E5: Slovenská baseballová federácia | F5: občianske združenie | G5: Junácka 6 | H5: Bratislava 3 | I5: 832 80 | J5: SK0902000000001785660854 | K5: www.baseballslovakia.com | L5: office@baseballslovakia.com | M5: Dušan Noga | N5: prezident | O5: František Bunta | P5: 421905294239
A6: 17316723 | B6: A | C6: baseball a softball | D6: A - baseball a softball - Slovenská softballová asociácia | E6: Slovenská softballová asociácia | F6: občianske združenie | G6: Junácka 6 | H6: Bratislava 3 | I6: 832 80 | J6: SK3702000000001785595554 | K6: www.softballslovakia.com | L6: office@softballslovakia.com | M6: Richard Bohunický | N6: prezident | O6: František Bunta | P6: 421905294239
A7: 17315166 | B7: A | C7: basketbal | D7: A - basketbal - Slovenská basketbalová asociácia | E7: Slovenská basketbalová asociácia | F7: občianske združenie | G7: Junácka 6 | H7: Bratislava 3 | I7: 832 80 | J7: SK9411000000002925865005 | K7: www.slovakbasket.sk | L7: sekretariat@slovakbasket.sk | M7: Ľubomír Ryšavý | N7: generálny sekretár | O7: Tomáš Ďurčan | P7: 421918241839
A8: 30811546 | B8: A | C8: bedminton | D8: A - bedminton - Slovenský zväz bedmintonu | E8: Slovenský zväz bedmintonu | F8: občianske združenie | G8: Slovenská 19 | H8: Prešov | I8: 080 01 | J8: SK4756000000000855117001 | K8: www.bedminton.sk | L8: sekretar@bedminton.sk | M8: Peter Tarcala | N8: generálny sekretár | O8: Peter Tarcala | P8: 421905257791
A9: 35656743 | B9: A | C9: biatlon | D9: A - biatlon - Slovenský zväz biatlonu | E9: Slovenský zväz biatlonu | F9: občianske združenie | G9: Partizánska 71 | H9: Banská Bystrica | I9: 974 01 | J9: SK8109000000000300127118 | K9: www.biathlon.sk | L9: svk@biathlon.sk | M9: Michal Baka, Tomáš Fusko | N9: generálny sekretár, člen výkonného výboru | O9: Michal Baka | P9: 421911323487
A10: 31753825 | B10: A | C10: biliard | D10: A - biliard - Slovenský biliardový zväz | E10: Slovenský biliardový zväz | F10: občianske združenie | G10: Junácka 6 | H10: Bratislava 3 | I10: 832 80 | J10: SK4002000000001788510253 | K10: www.onlinebiliard.sk | L10: koniar@sbiz.sk | M10: Samuel Koniar | N10: prezident | O10: Samuel Koniar | P10: 421907194669
A11: 36067580 | B11: A | C11: boby | D11: A - boby - Slovenský zväz bobistov | E11: Slovenský zväz bobistov | F11: občianske združenie | G11: Líščie údolie 134 | H11: Bratislava 4 | I11: 841 04 | J11: SK9711000000002621530361 | K11: www.boby.sk | L11: szb@boby.sk | M11: Milan Jagnešák | N11: predseda | O11: Zdenka Jagnešáková | P11: 421903262626
A12: 36128147 | B12: A | C12: bouling | D12: A - bouling - Slovenský bowlingový zväz | E12: Slovenský bowlingový zväz | F12: občianske združenie | G12: Werferova 1 | H12: Košice | I12: 040 11 | J12: SK7011000000002628781403 | K12: www.slovakbowling.sk | L12: sekretariat@slovakbowling.sk | M12: Vladimír Merkovský | N12: prezident | O12: Vladimír Merkovský | P12: 421903712927
A13: 31771688 | B13: A | C13: bouling | D13: A - bouling - Slovenský kolkársky zväz | E13: Slovenský kolkársky zväz | F13: občianske združenie | G13: Trnavská cesta 29/A | H13: Bratislava 3 | I13: 831 04 | J13: SK5602000000001785790958 | K13: www.kolky.sk | L13: sekretariat@kolky.sk | M13: Štefan Kočan | N13: prezident | O13: Elena Fürstenová | P13: 421905762340
... A97: 22665234 | B97: B | C97: šport zdravotne znevýhodnených športovcov | D97: B - šport zdravotne znevýhodnených športovcov - Slovenský zväz telesne postihnutých športovcov | E97: Slovenský zväz telesne postihnutých športovcov | F97: občianske združenie | G97: Benediktiho 5 | H97: Bratislava 1 | I97: 811 05 | J97: SK4781200000001412465060 | K97: www.sztps.sk | L97: tps@sztps.sk | M97: Ján Riapoš | N97: predseda | O97: Martin Čapla | P97: 421257789700
A98: 00688312 | B98: C | D98: C - - Klub slovenských turistov | E98: Klub slovenských turistov | F98: občianske združenie | G98: Záborského 33 | H98: Bratislava 3 | I98: 831 03 | J98: SK3409000000000171527595 | K98: www.kst.sk | L98: ustredie@kst.sk | M98: Peter Dragúň | N98: predseda | O98: Ida Ovečková | P98: 421903705119
A99: 17325391 | B99: C | D99: C - - Slovenská asociácia športu na školách | E99: Slovenská asociácia športu na školách | F99: občianske združenie | G99: Trnavská cesta 39 | H99: Bratislava 3 | I99: 831 04 | J99: SK8202000000000138733012 | K99: www.sass.sk | L99: sass@sass.sk | M99: Marian Majzlík | N99: predseda | O99: Jana Valušková | P99: 421905526840
A100: 17316731 | B100: C | D100: C - - Slovenská asociácia univerzitného športu | E100: Slovenská asociácia univerzitného športu | F100: občianske združenie | G100: Trnavská cesta 37 | H100: Bratislava 3 | I100: 831 04 | J100: SK5111000000002629023663 | K100: www.saus.sk | L100: saus@saus.sk | M100: Július Dubovský | N100: prezident | O100: Michaela Masárová | P100: 421907696186
A101: 34009388 | B101: C | D101: C - - Slovenský cykloklub | E101: Slovenský cykloklub | F101: občianske združenie | G101: Námestie slobody 1716/6 | H101: Piešťany | I101: 921 01 | J101: SK7602000000001438224951 | K101: www.cykloklub.sk | L101: info@cykloklub.sk | M101: Mária Zuzaniaková | N101: tajomník | O101: Mária Zuzaniaková | P101: 421911748252
A102: 30811082 | B102: C | D102: C - - Slovenský olympijský výbor | E102: Slovenský olympijský výbor | F102: občianske združenie | G102: Kukučínova 26 | H102: Bratislava 3 | I102: 838 08 | J102: SK0711000000002627023539 | K102: www.olympic.sk | L102: office@olympic.sk | M102: František Chmelár | N102: prezident | O102: Jozef Liba | P102: 421249256106
A103: 00681482 | B103: D | D103: D - - Asociácia športu pre všetkých Slovenskej republiky | E103: Asociácia športu pre všetkých Slovenskej republiky | F103: občianske združenie | G103: Junácka 6 | H103: Bratislava 3 | I103: 832 80 | J103: SK5302000000002155155954 | K103: www.aspv.sk | L103: aspv@aspv.sk | M103: Ján Holko | N103: predseda | O103: Ján Holko | P103: 421911244266
A104: 42176221 | B104: D | D104: D - - Bratislavský maratón | E104: Bratislavský maratón | F104: občianske združenie | G104: Nevädzová 6 | H104: Bratislava 2 | I104: 821 01 | J104: SK2611000000002925850321 | K104: bratislavamarathon.com | L104: marcel@becool.sk | M104: Jozef Pukalovič | N104: predseda | O104: Jozef Pukalovič | P104: 421903760777
A105: 37810961 | B105: D | D105: D - - Centrum voľného času | E105: Centrum voľného času | F105: rozpočtová organizácia | G105: Kuzmányho 105 | H105: Žilina | I105: 010 01 | J105: SK3656000000000303782003 | K105: www.cvczilina.sk | L105: cvczilina@cvczilina.sk | M105: Mariana Bohačiaková | N105: riaditeľ | O105: Eva Mjartan | P105: 421918683079
A106: 00603481 | B106: D | D106: D - - Hlavné mesto Slovenskej republiky Bratislava | E106: Hlavné mesto Slovenskej republiky Bratislava | F106: obec/mesto | G106: Primaciálne námestie 1 | H106: Bratislava 1 | I106: 814 99 | J106: SK4575000000000025928403 | K106: www.bratislava.sk | L106: simona.kovarova@bratislava.sk | M106: Ivo Nesrovnal | N106: primátor | O106: Simona Kovárová | P106: 421259356453
A107: 42262542 | B107: D | D107: D - - JK Rozálka Pezinok | E107: JK Rozálka Pezinok | F107: občianske združenie | G107: Rozálka 9 | H107: Pezinok | I107: 902 01 | J107: SK7409000000005036443826 | K107: www.rozalka.sk | L107: rozalka@rozalka.sk | M107: Simona Friebertová | N107: predseda | O107: Simona Friebertová | P107: 421911350535
A108: 47845660 | B108: D | D108: D - - Košická Futbalová Aréna a. s. | E108: Košická Futbalová Aréna a. s. | F108: akciová spoločnosť | G108: Trieda SNP 48/A | H108: Košice | I108: 040 11 | J108: SK8902000000003588910657 | K108: www.kosice.sk/kfa.php | L108: martin.petrusko@kosice.sk | M108: Martin Petruško, Ján Jakubov | N108: predseda, člen predstavenstva | O108: Martin Petruško | P108: 421556419212
A109: 30774454 | B109: D | D109: D - - Krasokorčuliarsky športový klub Slovan Bratislava | E109: Krasokorčuliarsky športový klub Slovan Bratislava | F109: občianske združenie | G109: Ružinovská 1 | H109: Bratislava 2 | I109: 821 01 | J109: SK3902000000002850327658 | K109: www.slovankraso.webs.com | L109: z.janosova05@gmail.com | M109: Zuzana Jánošová | N109: predseda | O109: Zuzana Jánošová | P109: 421907265462
... A118: 31562141 | B118: D | D118: D - - Železiarne Podbrezová a. s. | E118: Železiarne Podbrezová a. s. | F118: akciová spoločnosť | G118: Kolkáreň 35 | H118: Podbrezová | I118: 976 81 | J118: SK3809000000005054178499 | K118: www.zelpo.sk | L118: sotakova.lenka@zelpo.sk | M118: Marian Kurčík, Ľubor Schwarzbacher | N118: podpredseda predstavenstva, člen predstavenstva | O118: Lenka Sotáková | P118: 421903800055

Sheet Dots
A1: IČO | B1: Poradie po športoch | C1: Žiadateľ | D1: Predmet dotácie (názov, miesto, termín, parametre) | E1: Schválená (eur) | F1: SF (%) | G1: Účel | H1: PPG | I1: Dátum | J1: SubjPPG | K1: SubjU | L1: Od | M1: Do
A2: 00681482 | C2: Asociácia športu pre všetkých Slovenskej republiky | D2: projekt "Slovensko v pohybe" (30333 športovcov, 30333 cvičebných jednotiek, SR, celý rok 2016) | E2: 6300 | F2: 0.1 | G2: 09 | H2: 026 01 | I2: 42367 | J2: 00681482-026 01 | K2: 00681482-09 | L2: 42370 | M2: 42735
A3: 42176221 | C3: Bratislavský maratón | D3: organizovanie podujatia "ČSOB Bratislava Marathon" (typ: podujatie s mimoriadnym významom, 10 000 športovcov, miesto: Bratislava, termín: 3.4.-3.4.16) | E3: 20000 | F3: 0.31 | G3: 04 | H3: 026 02 | I3: 42367 | J3: 42176221-026 02 | K3: 42176221-04 | L3: 42370 | M3: 42735
A4: 37810961 | C4: Centrum voľného času | D4: pravidelná pohybová príprava (1692 športovcov, 50808 cvičebných jednotiek, Žilina, celý rok 2016) | E4: 4200 | F4: 0.88 | G4: 09 | H4: 026 01 | I4: 42367 | J4: 37810961-026 01 | K4: 37810961-09 | L4: 42370 | M4: 42735
A5: 37810961 | C5: Centrum voľného času | D5: projekt "Športové hry mládeže" (2477 športovcov, 37332 cvičebných jednotiek, Žilina, celý rok 2016) | E5: 5900 | F5: 0.63 | G5: 09 | H5: 026 01 | I5: 42367 | J5: 37810961-026 01 | K5: 37810961-09 | L5: 42370 | M5: 42735
A6: 42254388 | C6: Deaflympijský výbor Slovenska | D6: Babič Adrián (SR a zahraničie, celý rok 2016) | E6: 10000 | F6: 0.05 | G6: 02 | H6: 026 02 | I6: 42367 | J6: 42254388-026 02 | K6: 42254388-02 | L6: 42370 | M6: 42735
A7: 42254388 | C7: Deaflympijský výbor Slovenska | D7: družstvo žien v curlingu (SR a zahraničie, celý rok 2016) | E7: 44000 | F7: 0.05 | G7: 02 | H7: 026 02 | I7: 42367 | J7: 42254388-026 02 | K7: 42254388-02 | L7: 42370 | M7: 42735
A8: 42254388 | C8: Deaflympijský výbor Slovenska | D8: Jánošíková Jana (SR a zahraničie, celý rok 2016) | E8: 20000 | F8: 0.05 | G8: 02 | H8: 026 02 | I8: 42367 | J8: 42254388-026 02 | K8: 42254388-02 | L8: 42370 | M8: 42735
A9: 42254388 | C9: Deaflympijský výbor Slovenska | D9: Jurková Eva (SR a zahraničie, celý rok 2016) | E9: 40000 | F9: 0.05 | G9: 02 | H9: 026 02 | I9: 42367 | J9: 42254388-026 02 | K9: 42254388-02 | L9: 42370 | M9: 42735
A10: 42254388 | C10: Deaflympijský výbor Slovenska | D10: Keinath Thomas (SR a zahraničie, celý rok 2016) | E10: 30000 | F10: 0.05 | G10: 02 | H10: 026 02 | I10: 42367 | J10: 42254388-026 02 | K10: 42254388-02 | L10: 42370 | M10: 42735
A11: 42254388 | C11: Deaflympijský výbor Slovenska | D11: Krištofičová Ivana (SR a zahraničie, celý rok 2016) | E11: 50000 | F11: 0.05 | G11: 02 | H11: 026 02 | I11: 42367 | J11: 42254388-026 02 | K11: 42254388-02 | L11: 42370 | M11: 42735
A12: 42254388 | C12: Deaflympijský výbor Slovenska | D12: Legutky Martin (SR a zahraničie, celý rok 2016) | E12: 20000 | F12: 0.05 | G12: 02 | H12: 026 02 | I12: 42367 | J12: 42254388-026 02 | K12: 42254388-02 | L12: 42370 | M12: 42735
A13: 42254388 | C13: Deaflympijský výbor Slovenska | D13: Maťovčík Július (SR a zahraničie, celý rok 2016) | E13: 30000 | F13: 0.05 | G13: 02 | H13: 026 02 | I13: 42367 | J13: 42254388-026 02 | K13: 42254388-02 | L13: 42370 | M13: 42735
... A757: 31562141 | C757: Železiarne Podbrezová a. s. | D757: rekonštrukcia futbalového štadióna (Podbrezová, celý rok 2016) | E757: 510000 | F757: 0.51 | G757: 08 | H757: 026 04 | I757: 42367 | J757: 31562141-026 04 | K757: 31562141-08 | L757: 42370 | M757: 42735

Sheet Priklady
A1: =COUNTIF(B2:B101,B1) -> 100 | B1: =INDEX(Adr!A:A,B112+1) -> #VALUE! | D1: =MATCH(B1,Dots!A:A,0) -> #VALUE!
A2: =IF(B2=B$1,"("&H2&")"&" - "&INDEX(Dots!D:D,D2),"") -> #VALUE! | B2: =INDEX(Dots!A:A,D2) -> #VALUE! | D2: =D1 -> #VALUE! | F2: =SUMIF(A$125:A$20010,A2,G$125:G$20010) -> 0 | G2: =IF(B2=B$1,INDEX(Dots!E:E,D2),"") -> #VALUE! | H2: =IF(B2=B$1,INDEX(Dots!G:G,D2),"") -> #VALUE! | I2: =IF(B2=B$1,INDEX(Dots!H:H,D2),"") -> #VALUE! | J2: =IF(B2=B$1,INDEX(Dots!F:F,D2),"") -> #VALUE!
A3: =IF(B3=B$1,"("&H3&")"&" - "&INDEX(Dots!D:D,D3),"") -> #VALUE! | B3: =INDEX(Dots!A:A,D3) -> #VALUE! | D3: =D2+1 -> #VALUE! | F3: =SUMIF(A$125:A$20010,A3,G$125:G$20010) -> 0 | G3: =IF(B3=B$1,INDEX(Dots!E:E,D3),"") -> #VALUE! | H3: =IF(B3=B$1,INDEX(Dots!G:G,D3),"") -> #VALUE! | I3: =IF(B3=B$1,INDEX(Dots!H:H,D3),"") -> #VALUE! | J3: =IF(B3=B$1,INDEX(Dots!F:F,D3),"") -> #VALUE!
A4: =IF(B4=B$1,"("&H4&")"&" - "&INDEX(Dots!D:D,D4),"") -> #VALUE! | B4: =INDEX(Dots!A:A,D4) -> #VALUE! | D4: =D3+1 -> #VALUE! | F4: =SUMIF(A$125:A$20010,A4,G$125:G$20010) -> 0 | G4: =IF(B4=B$1,INDEX(Dots!E:E,D4),"") -> #VALUE! | H4: =IF(B4=B$1,INDEX(Dots!G:G,D4),"") -> #VALUE! | I4: =IF(B4=B$1,INDEX(Dots!H:H,D4),"") -> #VALUE! | J4: =IF(B4=B$1,INDEX(Dots!F:F,D4),"") -> #VALUE!
A5: =IF(B5=B$1,"("&H5&")"&" - "&INDEX(Dots!D:D,D5),"") -> #VALUE! | B5: =INDEX(Dots!A:A,D5) -> #VALUE! | D5: =D4+1 -> #VALUE! | F5: =SUMIF(A$125:A$20010,A5,G$125:G$20010) -> 0 | G5: =IF(B5=B$1,INDEX(Dots!E:E,D5),"") -> #VALUE! | H5: =IF(B5=B$1,INDEX(Dots!G:G,D5),"") -> #VALUE! | I5: =IF(B5=B$1,INDEX(Dots!H:H,D5),"") -> #VALUE! | J5: =IF(B5=B$1,INDEX(Dots!F:F,D5),"") -> #VALUE!
A6: =IF(B6=B$1,"("&H6&")"&" - "&INDEX(Dots!D:D,D6),"") -> #VALUE! | B6: =INDEX(Dots!A:A,D6) -> #VALUE! | D6: =D5+1 -> #VALUE! | F6: =SUMIF(A$125:A$20010,A6,G$125:G$20010) -> 0 | G6: =IF(B6=B$1,INDEX(Dots!E:E,D6),"") -> #VALUE! | H6: =IF(B6=B$1,INDEX(Dots!G:G,D6),"") -> #VALUE! | I6: =IF(B6=B$1,INDEX(Dots!H:H,D6),"") -> #VALUE! | J6: =IF(B6=B$1,INDEX(Dots!F:F,D6),"") -> #VALUE!
A7: =IF(B7=B$1,"("&H7&")"&" - "&INDEX(Dots!D:D,D7),"") -> #VALUE! | B7: =INDEX(Dots!A:A,D7) -> #VALUE! | D7: =D6+1 -> #VALUE! | F7: =SUMIF(A$125:A$20010,A7,G$125:G$20010) -> 0 | G7: =IF(B7=B$1,INDEX(Dots!E:E,D7),"") -> #VALUE! | H7: =IF(B7=B$1,INDEX(Dots!G:G,D7),"") -> #VALUE! | I7: =IF(B7=B$1,INDEX(Dots!H:H,D7),"") -> #VALUE! | J7: =IF(B7=B$1,INDEX(Dots!F:F,D7),"") -> #VALUE!
A8: =IF(B8=B$1,"("&H8&")"&" - "&INDEX(Dots!D:D,D8),"") -> #VALUE! | B8: =INDEX(Dots!A:A,D8) -> #VALUE! | D8: =D7+1 -> #VALUE! | F8: =SUMIF(A$125:A$20010,A8,G$125:G$20010) -> 0 | G8: =IF(B8=B$1,INDEX(Dots!E:E,D8),"") -> #VALUE! | H8: =IF(B8=B$1,INDEX(Dots!G:G,D8),"") -> #VALUE! | I8: =IF(B8=B$1,INDEX(Dots!H:H,D8),"") -> #VALUE! | J8: =IF(B8=B$1,INDEX(Dots!F:F,D8),"") -> #VALUE!
A9: =IF(B9=B$1,"("&H9&")"&" - "&INDEX(Dots!D:D,D9),"") -> #VALUE! | B9: =INDEX(Dots!A:A,D9) -> #VALUE! | D9: =D8+1 -> #VALUE! | F9: =SUMIF(A$125:A$20010,A9,G$125:G$20010) -> 0 | G9: =IF(B9=B$1,INDEX(Dots!E:E,D9),"") -> #VALUE! | H9: =IF(B9=B$1,INDEX(Dots!G:G,D9),"") -> #VALUE! | I9: =IF(B9=B$1,INDEX(Dots!H:H,D9),"") -> #VALUE! | J9: =IF(B9=B$1,INDEX(Dots!F:F,D9),"") -> #VALUE!
A10: =IF(B10=B$1,"("&H10&")"&" - "&INDEX(Dots!D:D,D10),"") -> #VALUE! | B10: =INDEX(Dots!A:A,D10) -> #VALUE! | D10: =D9+1 -> #VALUE! | F10: =SUMIF(A$125:A$20010,A10,G$125:G$20010) -> 0 | G10: =IF(B10=B$1,INDEX(Dots!E:E,D10),"") -> #VALUE! | H10: =IF(B10=B$1,INDEX(Dots!G:G,D10),"") -> #VALUE! | I10: =IF(B10=B$1,INDEX(Dots!H:H,D10),"") -> #VALUE! | J10: =IF(B10=B$1,INDEX(Dots!F:F,D10),"") -> #VALUE!
A11: =IF(B11=B$1,"("&H11&")"&" - "&INDEX(Dots!D:D,D11),"") -> #VALUE! | B11: =INDEX(Dots!A:A,D11) -> #VALUE! | D11: =D10+1 -> #VALUE! | F11: =SUMIF(A$125:A$20010,A11,G$125:G$20010) -> 0 | G11: =IF(B11=B$1,INDEX(Dots!E:E,D11),"") -> #VALUE! | H11: =IF(B11=B$1,INDEX(Dots!G:G,D11),"") -> #VALUE! | I11: =IF(B11=B$1,INDEX(Dots!H:H,D11),"") -> #VALUE! | J11: =IF(B11=B$1,INDEX(Dots!F:F,D11),"") -> #VALUE!
A12: =IF(B12=B$1,"("&H12&")"&" - "&INDEX(Dots!D:D,D12),"") -> #VALUE! | B12: =INDEX(Dots!A:A,D12) -> #VALUE! | D12: =D11+1 -> #VALUE! | F12: =SUMIF(A$125:A$20010,A12,G$125:G$20010) -> 0 | G12: =IF(B12=B$1,INDEX(Dots!E:E,D12),"") -> #VALUE! | H12: =IF(B12=B$1,INDEX(Dots!G:G,D12),"") -> #VALUE! | I12: =IF(B12=B$1,INDEX(Dots!H:H,D12),"") -> #VALUE! | J12: =IF(B12=B$1,INDEX(Dots!F:F,D12),"") -> #VALUE!
A13: =IF(B13=B$1,"("&H13&")"&" - "&INDEX(Dots!D:D,D13),"") -> #VALUE! | B13: =INDEX(Dots!A:A,D13) -> #VALUE! | D13: =D12+1 -> #VALUE! | F13: =SUMIF(A$125:A$20010,A13,G$125:G$20010) -> 0 | G13: =IF(B13=B$1,INDEX(Dots!E:E,D13),"") -> #VALUE! | H13: =IF(B13=B$1,INDEX(Dots!G:G,D13),"") -> #VALUE! | I13: =IF(B13=B$1,INDEX(Dots!H:H,D13),"") -> #VALUE! | J13: =IF(B13=B$1,INDEX(Dots!F:F,D13),"") -> #VALUE!
A14: =IF(B14=B$1,"("&H14&")"&" - "&INDEX(Dots!D:D,D14),"") -> #VALUE! | B14: =INDEX(Dots!A:A,D14) -> #VALUE! | D14: =D13+1 -> #VALUE! | F14: =SUMIF(A$125:A$20010,A14,G$125:G$20010) -> 0 | G14: =IF(B14=B$1,INDEX(Dots!E:E,D14),"") -> #VALUE! | H14: =IF(B14=B$1,INDEX(Dots!G:G,D14),"") -> #VALUE! | I14: =IF(B14=B$1,INDEX(Dots!H:H,D14),"") -> #VALUE! | J14: =IF(B14=B$1,INDEX(Dots!F:F,D14),"") -> #VALUE!
... A101: =IF(B101=B$1,"("&H101&")"&" - "&INDEX(Dots!D:D,D101),"") -> #VALUE! | B101: =INDEX(Dots!A:A,D101) -> #VALUE! | D101: =D100+1 -> #VALUE! | F101: =SUMIF(A$125:A$20010,A101,G$125:G$20010) -> 0 | G101: =IF(B101=B$1,INDEX(Dots!E:E,D101),"") -> #VALUE! | H101: =IF(B101=B$1,INDEX(Dots!G:G,D101),"") -> #VALUE! | I101: =IF(B101=B$1,INDEX(Dots!H:H,D101),"") -> #VALUE! | J101: =IF(B101=B$1,INDEX(Dots!F:F,D101),"") -> #VALUE!
E105: Organizácia podujatia názov podujatia (napr. Kongres ISF, Svetový pohár ICU): miesto konania (napr. Komjatice): termín (od-do) (napr. 1.5.-15.5.2016): počet aktívnych účastníkov (napr. 223): počet odpracovaných hodín spolu: (napr. 690): hrubé mzdy vyplatené osobám v súvislosti s podujatím vrátane odvodov zamestnávateľa spolu (dohody, zmluvy, faktúry, a pod.) v eur:
E106: Hrubé mzdy vyplatené osobám (zamestnancom) vrátane odvodov zamestnávateľa počet fyzických osôb (napr. 3):
E107: Služobné motorové vozidlo EČV (napr. BB 123 AK): Obdobie (napr. 3.7.-28.7.2016): Najazdené kilometre (napr. 1 211 km):
E108: Pracovná cesta (napr. výjazd na výkonný výbor, na majstrovstvá) Názov (napr. majstrovstvá sveta, sústredenie, kongres, zasadnutie komisie): Termín (napr. 1.5.-3.6.2016): Miesto - mesto a štát (napr. Palermo, Taliansko): Spôsob dopravy (napr. letecky): Počet všetkých osôb na pracovnej ceste (napr. 17) z toho: - športovci (+ navádzači): 12 - tréneri + rozhodcovia + vedúci výpravy + administratívni pracovníci + lekár + fyzioterapeut + masér + ): 2 - ostatné osoby (napr. sponzori, hostia): 3
A109: Príklady vyplnenia formulára
A110: Zoznam účtovných dokladov
H111: =Doklady!H111 -> V1
A112: Prijímateľ dotácie: | B112: Slovenský zväz skúšobný | H112: =Doklady!H112 -> 42411
A114: Čestne vyhlasujem, že
A115: a) všetky uvedené údaje sú pravdivé,
A116: b) dolu podpísaná osoba/osoby je oprávnená/sú oprávnené v súlade so stanovami, resp. zriaďovacou listinou na podpis vyúčtovania dotácie poskytnutej v roku 2016.
A117: c) toto vytlačené a podpísané vyúčtovanie je zhodné s hárkom, ktorý sme zaslali na adresu ziadosti.sport@minedu.sk dňa ....................... o .......... hod. ........ min.
A118: Súhlasím so zhromažďovaním, spracovávaním a zverejňovaním poskytnutých údajov.
A120: ="Dátum: "& TEXT(NOW(),"d.m.yyyy") -> Dátum: 27.1.2017
A121: Jozefína Maková, j.makova@yahoo.com, +421 901 901 901 | E121: Jozef Mak, prezident, Peter Pan, viceprezident
A122: MENO, PRIEZVISKO, E-MAIL a MOBIL osoby, ktorá spracovala vyúčtovanie | E122: MENO, PRIEZVISKO a PODPIS štatutárneho zástupcu/zástupcov oprávneného v súlade so stanovami/zriaďovacou listinou na podpis vyúčtovania dotácie poskytnutej v roku 2016
A124: Účel úhrady (VYBRAŤ ZO ZOZNAMU, INAK AUTOMATICKÉ VYHODNOCOVANIE NEBUDE FUNGOVAŤ) | B124: Interné číslo účtovného dokladu | C124: Číslo externého (originálneho) účtovného dokladu | D124: Dátum skutočnej úhrady účtovného dokladu | E124: Popis úhrady (vyberte z rozbaľovacieho zoznamu, alebo zadajte voľný text) | F124: Dodávateľ plnenia | G124: Skutočne uhradená suma Z DOTÁCIE (eur) | H124: Skutočne uhradená suma AKO SPOLUF. (eur)
A125: (1) - športová reprezentácia SR a rozvoj športového odvetvia | E125: Organizovanie podujatia Názov podujatia: Svetový pohár v skúškach Miesto konania: Brezno Termín: 15. - 18.4.2016 Počet zúčastnených osôb (okrem divákov): 20
A126: (1) - športová reprezentácia SR a rozvoj športového odvetvia | B126: 123/2016 | C126: CP14-110 | D126: 42492 | E126: počet odpracovaných hodín spolu: 100 hrubé mzdy vyplatené osobám v súvislosti s podujatím vrátane odvodov zamestnávateľa spolu (dohody, zmluvy, faktúry, a pod.) v eur | F126: osoba 1 - osoba 20 | G126: 400 | H126: 50
A127: (1) - športová reprezentácia SR a rozvoj športového odvetvia | B127: 124/2016 | C127: DF 24 | D127: 42508 | E127: náklady na ubytovanie 10 športovcov + 1 tréner | F127: Chata Breznovčan | H127: 100
A128: (1) - športová reprezentácia SR a rozvoj športového odvetvia | B128: 100/2016 | C128: 3020 | D128: 42439 | E128: grafické práce na výrobe loga podujatia | F128: Anna Malá - PROMOTION, s.r.o. | G128: 100
A129: (1) - športová reprezentácia SR a rozvoj športového odvetvia | B129: 121/2016 | C129: 100002352 | D129: 42480 | E129: cestovné - vlak - Bratislava - Brezno, 16 osôb | F129: Ján Rýchly | G129: 50
A130: (1) - športová reprezentácia SR a rozvoj športového odvetvia | B130: 125/2016 | C130: DF 26 | D130: 42498 | E130: stravovanie 20 osôb | F130: Reštaurácia "U vodníka", Brezno | G130: 200
A131: (1) - športová reprezentácia SR a rozvoj športového odvetvia | B131: 126/2016 | C131: DF 29 | D131: 42502 | E131: prenájom plavárne | F131: STARZ, Bratislava | H131: 50
A132: (1) - športová reprezentácia SR a rozvoj športového odvetvia | B132: 128/2016 | C132: DF 30 | D132: 42460 | E132: nákup športového oblečenia - 15 ks | F132: Adidas, Brezno | G132: 505
A133: (1) - športová reprezentácia SR a rozvoj športového odvetvia | E133: Pracovná cesta Názov: Majstrovstvá V4 v skúškach Termín: 3.9.2016 Miesto - mesto a štát: Varšava, Poľsko Spôsob dopravy: letecky/BUS Počet všetkých osôb na pracovnej ceste: 6, z toho: - športovci (+ navádzači): 1 - tréneri + rozhodcovia + vedúci výpravy + lekár + fyzioterapeut + masér + ): 1 - ostatné osoby (napr. sponzori, hostia): 4
A134: (1) - športová reprezentácia SR a rozvoj športového odvetvia | B134: 270/2016 | C134: 3252514 | D134: 42497 | E134: nákup leteniek - 6 ks | F134: Czech Airlines | H134: 600
A135: (1) - športová reprezentácia SR a rozvoj športového odvetvia | B135: 274/2016 | C135: D/258/2016 | D135: 42648 | E135: materiálové zabezpečenie pretekov - nákup 4 pušiek | F135: Puškárstvo - Ernest Bezaj, Malinovo | H135: 400
A136: (1) - športová reprezentácia SR a rozvoj športového odvetvia | B136: 275/2016 | C136: DF 32 | D136: 42628 | E136: občerstvenie - 6 osôb | F136: Messing Catering, s.r.o., Rovinka | G136: 1000 | H136: 768
A137: (1) - športová reprezentácia SR a rozvoj športového odvetvia | B137: 280/2016 | C137: DF 33 | D137: 42628 | E137: ubytovanie - 2 osoby | F137: Jozef Karát - privát, Šaľa | G137: 300
A138: (1) - športová reprezentácia SR a rozvoj športového odvetvia | B138: 190/2016 | C138: DF50 | D138: 42571 | E138: prenájom miestnosti | F138: Double Tree Hotel, Bratislava | G138: 600
A139: (1) - športová reprezentácia SR a rozvoj športového odvetvia | B139: 250/2016 | C139: 999 | D139: 42618 | E139: cestovné - Cerová - Trnava a späť, 3.9.2016, 2 osoby | F139: Železničná spoločnosť, a.s., Slovensko | G139: 25.9
A140: (1) - športová reprezentácia SR a rozvoj športového odvetvia | B140: 251/2016 | C140: 258963 | D140: 42515 | E140: vecné ceny - poháre 3 ks | F140: Victory sport, s.r.o. | H140: 30
A141: (1) - športová reprezentácia SR a rozvoj športového odvetvia | E141: Ostatné
A142: (1) - športová reprezentácia SR a rozvoj športového odvetvia | B142: P1/V/316 | C142: P1/V/316 | D142: 42735 | E142: Hrubé mzdy vyplatené osobám (zamestnancom) vrátane odvodov zamestnávateľa za rok 2016 počet fyzických osôb: 5 | F142: osoba 1, osoba 4 - 7 | H142: 12000
A143: (1) - športová reprezentácia SR a rozvoj športového odvetvia | B143: J/2016-20 | C143: 258 | D143: 42386 | E143: doplnky výživy - 21 športovcov | F143: Lekáreň Kozia, Bratislava | G143: 124
A144: (1) - športová reprezentácia SR a rozvoj športového odvetvia | B144: DF2016/326 | C144: 1213275 | D144: 42491 | E144: oprava športtesteru | F144: TOP TREND Patrik Valo | G144: 19.1
A145: (1) - športová reprezentácia SR a rozvoj športového odvetvia | B145: DF2016/193 | C145: 2007006035 | D145: 42371 | E145: havarijné poistenie 1-3/2016, EČV BA 258 KK | F145: Uniqa poisťovňa, a.s. | G145: 277.74
A146: (1) - športová reprezentácia SR a rozvoj športového odvetvia | B146: 42705 | C146: 258 | D146: 42384 | E146: diaľničná nálepka na rok 2016 | F146: OMV, s.r.o. | G146: 50
A147: (1) - športová reprezentácia SR a rozvoj športového odvetvia | B147: 199/2016 | C147: 32 | D147: 42577 | E147: poštovné | F147: Slovenská pošta, a.s. | G147: 9
A148: (1) - športová reprezentácia SR a rozvoj športového odvetvia | B148: 42491 | C148: 3 | D148: 42381 | E148: nájom kancelárskych priestorov 2/2016 | F148: Slovenské združenie telesnej kultúry | G148: 10
A149: (1) - športová reprezentácia SR a rozvoj športového odvetvia | B149: P1/V/259 | C149: 20123698752 | D149: 42622 | E149: regenerácia, 8 športovcov, 8/2016 | F149: SPORTMEDICAL s.r.o., Bratislava | G149: 500
A150: (1) - športová reprezentácia SR a rozvoj športového odvetvia | B150: 235/2016 | C150: 40010 | D150: 42470 | E150: nákup materiálu - reprezentačná vlajka 1 ks | F150: ADAT, s.r.o. | G150: 71.2
A151: (1) - športová reprezentácia SR a rozvoj športového odvetvia | B151: 206/2016 | C151: DF100/9/2016 | D151: 42609 | E151: refundácia nákladov na základe zmluvy pre CTM Žilina: Okresné kolo v skúškach, 7.8.2016, Žilina, 43 osôb, z toho: 37 športovcov, 1 tréner, 1 strážna služba, 1 masér, 3 technickí pracovníci, úhrada nákladov za stravovanie | F151: Prestige catering, s.r.o. | G151: 250
A152: (1) - športová reprezentácia SR a rozvoj športového odvetvia | B152: 207/2016 | C152: DF500 | D152: 42597 | E152: prenájom plavárne, 4 dráhy, 8 hodín | F152: Mesto Žilina | G152: 320
A153: (1) - športová reprezentácia SR a rozvoj športového odvetvia | B153: 305/20104 | C153: 14 | D153: 42521 | E153: upratovacie služby 5/2016 | F153: Boris Dubaj - živnostník | G153: 40
A154: (1) - športová reprezentácia SR a rozvoj športového odvetvia | B154: 42370 | C154: V-2016-3 | D154: 42371 | E154: bankové poplatky | F154: SLSP, a.s. | G154: 25
A155: (1) - športová reprezentácia SR a rozvoj športového odvetvia | B155: 42430 | C155: 980 | D155: 42402 | E155: poplatok medzinárodnej federácii za rok 2016 | F155: Internationale Asociation ..... | G155: 150
A156: (1) - športová reprezentácia SR a rozvoj športového odvetvia | B156: 42461 | C156: 5 | D156: 42375 | E156: členský poplatok za rok 2016 | F156: Konfederácia športových zväzov | G156: 100
A157: (1) - športová reprezentácia SR a rozvoj športového odvetvia | B157: 301/2016 | C157: 78954787 | D157: 42464 | E157: prenájom optického kábla 3/2016 | F157: e-Net, s.r.o. | G157: 74.1
A158: (1) - športová reprezentácia SR a rozvoj športového odvetvia | B158: 330/2016 | C158: FD52 | D158: 42597 | E158: poplatky za telefón, 7/2016, č.t. 0911323232 | F158: Slovak telekom, a.s. | G158: 120
A159: (1) - športová reprezentácia SR a rozvoj športového odvetvia | B159: V1-12 | C159: V1-12 | D159: 42474 | E159: PHM - služobné motorové vozidlo EČV: BA 111 SA Obdobie: 14.4. - 18.4.2016 Najazdené kilometre: 800 km | F159: Slovnaft, a.s. Bratislava | G159: 80 | H159: 80
A160: (1) - športová reprezentácia SR a rozvoj športového odvetvia | B160: 25 | C160: 358 | D160: 42685 | E160: trénerské služby 10/2016 | F160: Ondrej Pado - živnostník | G160: 600 | H160: 200
A161: (1) - športová reprezentácia SR a rozvoj športového odvetvia | B161: 3 | C161: 26985235 | D161: 42509 | E161: oprava služobného motorového vozidla, BA 222 AA | F161: Prvý autoservis, Bratislava | G161: 10
A162: (1) - športová reprezentácia SR a rozvoj športového odvetvia | B162: P1/V/309 | C162: PP46130119 | D162: 42555 | E162: lekárske vyšetrenie - 10 športovcov | F162: Alpha medical a.s. | G162: 19
A163: (1) - športová reprezentácia SR a rozvoj športového odvetvia | B163: 300/2016 | C163: 256 | D163: 42381 | E163: laboratórne vyšetrenie | F163: Nemocnica s poliklinikou, Prešov | G163: 230
A164: (1) - športová reprezentácia SR a rozvoj športového odvetvia | B164: V/2016/3 | C164: DF2016/143 | D164: 42431 | E164: lyžiarsky servis - február 2016 | F164: Dušan Otčenáš - Martek Sport | G164: 175
A165: (1) - športová reprezentácia SR a rozvoj športového odvetvia | B165: ID258 | C165: 369963 | D165: 42432 | E165: športová výstroj - tenisové rakety - 7 ks | F165: Sportissimo, Bratislava | H165: 255
A166: (7) - Sergej Bubka | E166: Pracovná cesta Názov: Výcvikový tábor Termín: 1.12.-20.12.2016 Miesto - mesto a štát: Moskva, Ruská federácia Spôsob dopravy: LET Počet všetkých osôb na pracovnej ceste: 2, z toho - športovci: 1 - tréner: 1
A167: (7) - Sergej Bubka | B167: DF2016/309 | C167: 20160136 | D167: 42734 | E167: trénerské služby - 1.12-20.12.2016 | F167: Peter Konrád | G167: 360
A168: (7) - Sergej Bubka | B168: R/2016/11 | C168: 20123698752 | D168: 42725 | E168: regenerácia | F168: SPORTMEDICAL s.r.o., Bratislava | G168: 500
A169: (7) - Sergej Bubka | B169: 42583 | C169: 369 | D169: 42732 | E169: prenájom tenisového kurtu 1.2.2016 | F169: Národné tenisové centrum, a.s. | G169: 20
A170: (7) - Sergej Bubka | B170: 40/2016 | C170: 25412 | D170: 42733 | E170: doplnky výživy | F170: Sunpharma, s.r.o. | G170: 25
A171: (3) - nákup mikrobusu | B171: 42614 | C171: 4/2016/DU | D171: 42381 | E171: nákup mikrobusu, EVČ BA 111 SS (faktúra doložená v prílohe vyúčtovania) | F171: AUDI centrum, s.r.o. | G171: 20000
A172: (3) - rekonštrukcia športovej haly | B172: 89/2016 | C172: 36/14 | D172: 42460 | E172: rekonštrukcia športovej haly v Čadci - opláštenie tribúny, výmena sedadiel, rekonštrukcia šatní a sociálnych zariadení (faktúra doložená v prílohe vyúčtovania) | F172: Rekostav, s.r.o., Čadca | G172: 30000 | H172: 15000
A173: (1) - výber a príprava športových talentov | E173: Pracovná cesta Názov: Sústredenie dievčat Termín: 03.-07.06.2016 Miesto - mesto a štát: Košice Spôsob dopravy: vlak Počet všetkých osôb na pracovnej ceste: 48, z toho: - športovci (+ navádzači): 44 - tréneri + rozhodcovia + vedúci výpravy + lekár + fyzioterapeut + masér + ): 3 - ostatné osoby (napr. sponzori, hostia): 1
A174: (1) - výber a príprava športových talentov | B174: ID082 | C174: 555 | D174: 42624 | E174: doprava, BUS, 2.7.2016, 7.6.2016, 39 osôb | F174: Autodoprava Charvát, Veľké Bielice | G174: 123
A175: (1) - výber a príprava športových talentov | B175: ID100 | C175: 444 | D175: 42584 | E175: cestovné, VLAK, Banská Bystrica - Košice, 3.7.2016, 8 osôb | F175: Ján Rýchly, prezident zväzu | G175: 1600
A176: (1) - výber a príprava športových talentov | E176: Ostatné
A177: (1) - výber a príprava športových talentov | B177: FA213090 | C177: 1300072 | D177: 42552 | E177: potlač 4 ks športových dresov | F177: RES Promotion, s.r.o., Košice 1 | G177: 21.36
A178: (1) - výber a príprava športových talentov | B178: 310/2016 | C178: DF2555 | D178: 42567 | E178: regenerácia 16.5.2016, 1 športovec | F178: Fyziopraktik, s.r.o. | G178: 20
A179: (1) - výber a príprava športových talentov | B179: 32/2016 | C179: PZ5 | D179: 42735 | E179: trénerská činnosť 12/2016 | F179: Henrich Madaj - živnostník | G179: 200
A180: (1) - výber a príprava športových talentov | B180: 25/2016 | C180: 254 | D180: 42686 | E180: Materiálové vybavenie športovcov CTM Žilina, náhradné súčiastky na bicykel | F180: Bottico, s.r.o. Otrokovice | G180: 201.5
A181: (1) - výber a príprava športových talentov | B181: 288/2016 | C181: 141 | D181: 42603 | E181: regenerácia športovcov CTM Bobot, 30 hodín | F181: Slovenské liečebné kúpele Rajecké Teplice, a.s. | G181: 1010
A182: (1) - výber a príprava športových talentov | B182: ID221 | C182: 25 | D182: 42584 | E182: refundácia nákladov na základe zmluvy za centrum talentovanej mládeže Bošáca: sústredenie mladších žiačok, 30.6.-7.7.2016, Bardejov, ubytovanie, 12 osôb | F182: Ubytovňa Nádej, Bardejov | G182: 1330
A183: (2) Peter Novák - odmena športovcom | B183: 42705 | C183: 760998 | D183: 42550 | E183: odmena športovcom za výsledky dosiahnuté v roku 2016 | F183: Peter Novák | G183: 1000
A184: (2) Miroslav Hurban - odmena trénerom | B184: 13/2016 | C184: 760852 | D184: 42550 | E184: odmena trénerovi mládeže | F184: Miroslav Hurban | G184: 200
A185: (6) Národná súťaž v skúškach | E185: Organizovanie podujatia Názov: Národná súťaž v skúškach Termín: 15.06.2016 Miesto - mesto a štát: Pezinok Počet zúčastnených osôb (okrem divákov): 547
A186: (6) Národná súťaž v skúškach | B186: 66/2016 | C186: 25 | D186: 42563 | E186: tlač diplomov A4 547 ks | F186: Mouton, s.r.o. Žilina | G186: 147.35
A187: (6) Národná súťaž v skúškach | B187: 361/2016 | C187: 36 | D187: 42540 | E187: technické a organizačné zabezpečenie súťaže - úprava pretekárskej dráhy, stavba pódia, organizácia záverečného ceremoniálu, moderovanie | F187: Dušan Tesár - Select Managering, s.r.o. | G187: 2500
A188: (6) Národná súťaž v skúškach | B188: 98/2016 | C188: 14 | D188: 42568 | E188: nákup športového vybavenia - 20 ks lôpt | F188: Sport, s.r.o. Poprad | G188: 1200
A189: (6) Národná súťaž v skúškach | B189: PC2016/36 | C189: 56/C | D189: 42531 | E189: PHM - služobné motorové vozidlo EČV: BL 363 AA Obdobie: 10.6.-15.6.2016 Najazdené kilometre: 600 | F189: OMV, s.r.o., Bratislava | G189: 350
A190: (6) školské M-SR v skúškach | E190: Organizovanie podujatia Názov: M-SR žiakov ZŠ v skúškach Termín: 15.05.2016 Miesto - mesto a štát: Nitra Počet zúčastnených osôb (okrem divákov): 220
A191: (6) Národná súťaž v skúškach | B191: 380/2016 | C191: 952 | D191: 42531 | E191: športový materiál - bedmintonové rakety, košíky | F191: Funny sport, s.r.o., Prešov | H191: 100
A192: (6) Národná súťaž v skúškach | B192: 390/2016 | C192: 3852/2016 | D192: 42562 | E192: zdravotné služby | F192: DZS OPTIMUS, s.r.o. | H192: 200
...
